BEGIN:VCALENDAR
VERSION:2.0
PRODID:-//Alliance Française de Grosse Pointe - ECPv6.15.20//NONSGML v1.0//EN
CALSCALE:GREGORIAN
METHOD:PUBLISH
X-ORIGINAL-URL:https://afdegrossepointe.org
X-WR-CALDESC:Events for Alliance Française de Grosse Pointe
REFRESH-INTERVAL;VALUE=DURATION:PT1H
X-Robots-Tag:noindex
X-PUBLISHED-TTL:PT1H
BEGIN:VTIMEZONE
TZID:America/Detroit
BEGIN:DAYLIGHT
TZOFFSETFROM:-0500
TZOFFSETTO:-0400
TZNAME:EDT
DTSTART:20240310T070000
END:DAYLIGHT
BEGIN:STANDARD
TZOFFSETFROM:-0400
TZOFFSETTO:-0500
TZNAME:EST
DTSTART:20241103T060000
END:STANDARD
BEGIN:DAYLIGHT
TZOFFSETFROM:-0500
TZOFFSETTO:-0400
TZNAME:EDT
DTSTART:20250309T070000
END:DAYLIGHT
BEGIN:STANDARD
TZOFFSETFROM:-0400
TZOFFSETTO:-0500
TZNAME:EST
DTSTART:20251102T060000
END:STANDARD
BEGIN:DAYLIGHT
TZOFFSETFROM:-0500
TZOFFSETTO:-0400
TZNAME:EDT
DTSTART:20260308T070000
END:DAYLIGHT
BEGIN:STANDARD
TZOFFSETFROM:-0400
TZOFFSETTO:-0500
TZNAME:EST
DTSTART:20261101T060000
END:STANDARD
END:VTIMEZONE
BEGIN:VEVENT
DTSTART;TZID=America/Detroit:20251206T133000
DTEND;TZID=America/Detroit:20251206T133000
DTSTAMP:20260424T072236
CREATED:20250826T125334Z
LAST-MODIFIED:20251111T174053Z
UID:7741-1765027800-1765027800@afdegrossepointe.org
SUMMARY:Apprendre
DESCRIPTION:Documentaire – 2024 – 1h45m\n\nNominee: Cannes\, Gijon International and El Gouna Film Festivals\nDirector: Claire Simon\n\nA documentary that unveils the profound impact of teachers’ devotion to their\nstudents. Witness their daily triumphs and struggles as they inspire young minds\nwith unwavering dedication. With care\, tenacity and effort\, children are trained to\nbecome not only responsible citizens but also human beings.
URL:https://afdegrossepointe.org/event/film-choice-tbd/
LOCATION:Grosse Pointe Public Library-Woods Branch\, 20680 Mack Ave.\, Grosse Pointe Woods\, MI\, 48236\, United States
CATEGORIES:Ciné Club
ATTACH;FMTTYPE=image/jpeg:https://afdegrossepointe.org/wp-content/uploads/2025/08/IMG_7099-rotated.jpg
END:VEVENT
BEGIN:VEVENT
DTSTART;TZID=America/Detroit:20251211T183000
DTEND;TZID=America/Detroit:20251211T213000
DTSTAMP:20260424T072236
CREATED:20240903T145250Z
LAST-MODIFIED:20251114T194841Z
UID:6194-1765477800-1765488600@afdegrossepointe.org
SUMMARY:Fête de Nöel
DESCRIPTION:Join us for a traditional French raclette dinner of potatoes\, cold cuts\, side salads\, and a delicious fondue of raclette cheese! Just bring your own beverage and holiday cheer! Wine and beer are permitted. \nCost: $30 for members and $40 for non-members. \nPLEASE RSVP BEFORE DECEMBER 7th \nDownload PDF Flyer \n\nRSVP ONLINE\nPlease enable JavaScript in your browser to complete this form.Please enable JavaScript in your browser to complete this form.Name *Last Name *Email *PhoneEventFête de NoëlWho do you need tickets for? *AFGP Member at $30 eachNon/Past Member(s) at $40 eachBothAFGP Member Tickets1 Tickets2 Tickets3 Tickets4 TicketsNon/Past Member Tickets1 Tickets2 Tickets3 Tickets4 TicketsTotal$0.00Stripe Credit Card *CardName on CardSubmit
URL:https://afdegrossepointe.org/event/fete-de-noel/
LOCATION:Tompkins Community Center\, 14920 Windmill Pointe Dr.\, Grosse Pointe Park\, MI\, 48230\, United States
ATTACH;FMTTYPE=image/png:https://afdegrossepointe.org/wp-content/uploads/2022/11/joyeux_noel.png
END:VEVENT
END:VCALENDAR