BEGIN:VCALENDAR
VERSION:2.0
PRODID:-//Alliance Française de Grosse Pointe - ECPv6.15.20//NONSGML v1.0//EN
CALSCALE:GREGORIAN
METHOD:PUBLISH
X-WR-CALNAME:Alliance Française de Grosse Pointe
X-ORIGINAL-URL:https://afdegrossepointe.org
X-WR-CALDESC:Events for Alliance Française de Grosse Pointe
REFRESH-INTERVAL;VALUE=DURATION:PT1H
X-Robots-Tag:noindex
X-PUBLISHED-TTL:PT1H
BEGIN:VTIMEZONE
TZID:America/Detroit
BEGIN:DAYLIGHT
TZOFFSETFROM:-0500
TZOFFSETTO:-0400
TZNAME:EDT
DTSTART:20240310T070000
END:DAYLIGHT
BEGIN:STANDARD
TZOFFSETFROM:-0400
TZOFFSETTO:-0500
TZNAME:EST
DTSTART:20241103T060000
END:STANDARD
BEGIN:DAYLIGHT
TZOFFSETFROM:-0500
TZOFFSETTO:-0400
TZNAME:EDT
DTSTART:20250309T070000
END:DAYLIGHT
BEGIN:STANDARD
TZOFFSETFROM:-0400
TZOFFSETTO:-0500
TZNAME:EST
DTSTART:20251102T060000
END:STANDARD
BEGIN:DAYLIGHT
TZOFFSETFROM:-0500
TZOFFSETTO:-0400
TZNAME:EDT
DTSTART:20260308T070000
END:DAYLIGHT
BEGIN:STANDARD
TZOFFSETFROM:-0400
TZOFFSETTO:-0500
TZNAME:EST
DTSTART:20261101T060000
END:STANDARD
END:VTIMEZONE
BEGIN:VEVENT
DTSTART;TZID=America/Detroit:20250806T160000
DTEND;TZID=America/Detroit:20250806T170000
DTSTAMP:20260423T175927
CREATED:20250725T122013Z
LAST-MODIFIED:20250725T122604Z
UID:7677-1754496000-1754499600@afdegrossepointe.org
SUMMARY:A Conversation with Evie Woods\, author of The Mysterious Bakery on Rue de Paris
DESCRIPTION:AF Federation- USA: Online Event \nREGISTER HERE and a Zoom link will be sent out to you via email \nJoin us for a conversation with Evie Woods\, author of the new escapist novel for 2025\, The Mysterious Bakery on Rue de Paris. \nOur AF Grosse Pointe Cercle de Lecture decide to read an English novel for the first time and is looking forward to joining the conversation with the author of The Mysterious Bakery on Rue de Paris \nNestled among the cobblestone streets of Compiègne\, there existed a bakery unlike any other. Rumors were whispered through the town that its pastries offered a taste of magic\, chasing away the darkest of sorrows. Just one bite of a croissant might bring luck\, unlock a precious memory or reveal hidden longings. But dark clouds were looming on the horizon…
URL:https://afdegrossepointe.org/event/a-conversation-with-evie-woods-author-of-the-mysterious-bakery-on-rue-de-paris/
LOCATION:Online
ATTACH;FMTTYPE=image/png:https://afdegrossepointe.org/wp-content/uploads/2025/07/evie-woods.png
END:VEVENT
BEGIN:VEVENT
DTSTART;TZID=America/Detroit:20250818T180000
DTEND;TZID=America/Detroit:20250818T180000
DTSTAMP:20260423T175927
CREATED:20250729T122534Z
LAST-MODIFIED:20250729T193630Z
UID:7696-1755540000-1755540000@afdegrossepointe.org
SUMMARY:Slow Flow Yoga en Français
DESCRIPTION:Profitez d’une classe de yoga tous niveaux menée en français. \nSabine\, membre de l’AF de Grosse Pointe et prof de yoga\, nous guidera avec expertise dans le milieu idyllique des jardins de Detroit Abloom. \nPour plus d’information et pour réserver votre place: \nRESERVATIONS
URL:https://afdegrossepointe.org/event/slow-flow-yoga-en-francais/
LOCATION:Abloom Detroit\, 248 Manistique\, Detroit\, MI\, United States
END:VEVENT
BEGIN:VEVENT
DTSTART;TZID=America/Detroit:20250824T170000
DTEND;TZID=America/Detroit:20250824T200000
DTSTAMP:20260423T175927
CREATED:20250709T130217Z
LAST-MODIFIED:20250723T201452Z
UID:7538-1756054800-1756065600@afdegrossepointe.org
SUMMARY:2025-2026 Season Opener Reception
DESCRIPTION:Annual Meeting and Board of Directors Elections\nWelcome the 2025-2026 AFGP season at a landmark venue\,\noverlooking Lake St Clair \nJoin us for refreshments\, good food\, French music\, and great company. \nTHIS EVENT IS OPEN ONLY TO AFGP MEMBERS WITH RENEWED 2025-2026 MEMBERSHIP \, NEW SEASON MEMBERS\, AND THEIR GUESTS \nPurchase tickets online (preferred method) on our AFGP website www.afdegrossepointe.org \nOr download the Formal Invitation\, and mail the bottom stub with your check by August 15th\, 2025. \nCheck payable to: Alliance Française de Grosse Pointe \nMail to: AF Grosse Pointe\, 751 Berkshire Rd.\, Grosse Pointe Park\, MI 48230 \nBuy Tickets Online\nPlease enable JavaScript in your browser to complete this form.Please enable JavaScript in your browser to complete this form.Name *First NameLast Name *Last NameEmail *PhoneREMEMBER TO RENEW YOUR AFGP ANNUAL MEMBERSHIP BEFORE RESERVING\nTICKETS\nMember Tickets: $30 each\nGuest Tickets: $40 eachWho do you need tickets for? *Member(s)Guest(s)BothMember Tickets1 Tickets2 Tickets3 Tickets4 TicketsList Members Attending *Guest Tickets1 Tickets2 Tickets3 Tickets4 TicketsList Guests Attending *Total$0.00Stripe Credit Card *CardName on CardSubmit  \n 
URL:https://afdegrossepointe.org/event/2025-2026-season-opener/
LOCATION:Wilkinson Estate\, 2 Woodland Place\, Grosse Pointe\, MI\, 48230\, United States
ATTACH;FMTTYPE=image/jpeg:https://afdegrossepointe.org/wp-content/uploads/2023/08/champagne_eiffel_tower.jpg
END:VEVENT
BEGIN:VEVENT
DTSTART;TZID=America/Detroit:20250825T190000
DTEND;TZID=America/Detroit:20250825T200000
DTSTAMP:20260423T175927
CREATED:20250725T122516Z
LAST-MODIFIED:20250729T121709Z
UID:7681-1756148400-1756152000@afdegrossepointe.org
SUMMARY:L’été dernier / Last Summer (2023)
DESCRIPTION:AF Federation-USA\, French Cinémathèque: Online Event \nDirector Catherine Breillat\nStarring Léa Drucker\, Olivier Rabourdin\, Samuel Kircher\, Clotilde Courau \nREGISTER HERE  \nAnne\, a renowned lawyer\, lives a fulfilling life in Paris with her husband\, Pierre\, and their two daughters. When Theo\, Pierre’s son from a previous marriage\, moves in with them\, Anne begins an intimate relationship with the seventeen-year-old that puts her at risk of losing her family and career. \n  \nParticipants are encouraged to watch the film via streaming before attending the discussion.  \nL’été dernier is available for streaming on several platforms\, including free access on Kanopy. \nThe Zoom link will be sent out via email after registration. 
URL:https://afdegrossepointe.org/event/lete-dernier-last-summer-2023/
LOCATION:Online
CATEGORIES:Ciné Club
ATTACH;FMTTYPE=image/png:https://afdegrossepointe.org/wp-content/uploads/2025/07/lete-dernier.png
END:VEVENT
END:VCALENDAR