BEGIN:VCALENDAR
VERSION:2.0
PRODID:-//Alliance Française de Grosse Pointe - ECPv6.15.20//NONSGML v1.0//EN
CALSCALE:GREGORIAN
METHOD:PUBLISH
X-WR-CALNAME:Alliance Française de Grosse Pointe
X-ORIGINAL-URL:https://afdegrossepointe.org
X-WR-CALDESC:Events for Alliance Française de Grosse Pointe
REFRESH-INTERVAL;VALUE=DURATION:PT1H
X-Robots-Tag:noindex
X-PUBLISHED-TTL:PT1H
BEGIN:VTIMEZONE
TZID:America/Detroit
BEGIN:DAYLIGHT
TZOFFSETFROM:-0500
TZOFFSETTO:-0400
TZNAME:EDT
DTSTART:20240310T070000
END:DAYLIGHT
BEGIN:STANDARD
TZOFFSETFROM:-0400
TZOFFSETTO:-0500
TZNAME:EST
DTSTART:20241103T060000
END:STANDARD
BEGIN:DAYLIGHT
TZOFFSETFROM:-0500
TZOFFSETTO:-0400
TZNAME:EDT
DTSTART:20250309T070000
END:DAYLIGHT
BEGIN:STANDARD
TZOFFSETFROM:-0400
TZOFFSETTO:-0500
TZNAME:EST
DTSTART:20251102T060000
END:STANDARD
BEGIN:DAYLIGHT
TZOFFSETFROM:-0500
TZOFFSETTO:-0400
TZNAME:EDT
DTSTART:20260308T070000
END:DAYLIGHT
BEGIN:STANDARD
TZOFFSETFROM:-0400
TZOFFSETTO:-0500
TZNAME:EST
DTSTART:20261101T060000
END:STANDARD
END:VTIMEZONE
BEGIN:VEVENT
DTSTART;TZID=America/Detroit:20250504T150000
DTEND;TZID=America/Detroit:20250504T163000
DTSTAMP:20260423T225912
CREATED:20250424T144628Z
LAST-MODIFIED:20250424T190535Z
UID:7191-1746370800-1746376200@afdegrossepointe.org
SUMMARY:French Navy Coast Guard Vessel: The Fulmar
DESCRIPTION:(Lecture in French) \nFree Event  \nClick to Register\nYou are cordially invited to a special lecture by Lieutenant Commander François Mauger\, presenting Mission Cadillac: From Saint-Pierre et Miquelon to Detroit. \nLieutenant Commander Mauger will introduce the French Navy vessel FULMAR and discuss its mission in Saint-Pierre and Miquelon.\nThe presentation will cover: \n\nThe French Maritime Territory\, the second largest in the world\nThe strategic role of the Navy in protecting and enhancing these vast maritime territories\nThe mission and operations of the Fulmar\nThe unique challenges faced by vessels operating in such environments\n\nJoin us for this fascinating insight into modern naval operations and the global presence of the French Navy. \nOn Monday\, May 5th\, between 10 a.m. and 6 p.m. there will be 45 minute guided tours of the FULMAR\, docked in Detroit: Eight total depending on interest/registration. (Visits in French or English for citizens of NATO member countries\, 10 persons at a time). \nBOOK YOUR VISIT HERE \nPlease bring your passport for the visit. \nCheck this link\, if you need to check if you are a citizen of NATO member countries.
URL:https://afdegrossepointe.org/event/french-navy-coast-guard-vessel-the-fulmar/
LOCATION:Alliance de Française de Detroit / French Institute of Michigan\, 30800 Telegraph Rd\, Suite 2925\, Bingham Farms\, MI\, 48025\, United States
CATEGORIES:Front Page,Main
ATTACH;FMTTYPE=image/png:https://afdegrossepointe.org/wp-content/uploads/2025/04/COAST-2.png
END:VEVENT
BEGIN:VEVENT
DTSTART;TZID=America/Detroit:20250514T180000
DTEND;TZID=America/Detroit:20250514T180000
DTSTAMP:20260423T225912
CREATED:20250506T173418Z
LAST-MODIFIED:20250507T125428Z
UID:7254-1747245600-1747245600@afdegrossepointe.org
SUMMARY:Groupe de Conversation May
DESCRIPTION:Join us at our monthly French Conversation Group. This event is free of charge and we welcome French speakers of every level. \nFor information\, email afgpeducation@gmail.com. \n\nClick here to RSVP
URL:https://afdegrossepointe.org/event/groupe-de-conversation-may/
LOCATION:Village Grille\, 16930 Kercheval Ave.\, Grosse Pointe Park\, MI\, United States
CATEGORIES:Groupe de Conversation
ATTACH;FMTTYPE=image/png:https://afdegrossepointe.org/wp-content/uploads/2025/03/AFGP_Conversation_Group.png
END:VEVENT
BEGIN:VEVENT
DTSTART;TZID=America/Detroit:20250517T133000
DTEND;TZID=America/Detroit:20250517T133000
DTSTAMP:20260423T225912
CREATED:20250328T142626Z
LAST-MODIFIED:20250508T115850Z
UID:7162-1747488600-1747488600@afdegrossepointe.org
SUMMARY:La Petite Vadrouille
DESCRIPTION:Join us for our monthly French film screening followed by a discussion in English. Films are in French with English subtitles.This month’s film is La Petite Vadrouille. \nTranslation: LOVE BOAT \nComedy (2024) – Directed by Bruno Podalydes \nStarring Daniel Auteuil Justine\, her husband and their friends come up with a solution\nto their money problems: organize a fake romantic cruise for\nFranck\, a wealthy investor.
URL:https://afdegrossepointe.org/event/la-petite-vadrouille/
LOCATION:Grosse Pointe Public Library-Woods Branch\, 20680 Mack Ave.\, Grosse Pointe Woods\, MI\, 48236\, United States
CATEGORIES:Ciné Club
ATTACH;FMTTYPE=image/png:https://afdegrossepointe.org/wp-content/uploads/2025/03/La-Petite-Vadrouille.png
END:VEVENT
END:VCALENDAR