BEGIN:VCALENDAR
VERSION:2.0
PRODID:-//Alliance Française de Grosse Pointe - ECPv6.15.20//NONSGML v1.0//EN
CALSCALE:GREGORIAN
METHOD:PUBLISH
X-WR-CALNAME:Alliance Française de Grosse Pointe
X-ORIGINAL-URL:https://afdegrossepointe.org
X-WR-CALDESC:Events for Alliance Française de Grosse Pointe
REFRESH-INTERVAL;VALUE=DURATION:PT1H
X-Robots-Tag:noindex
X-PUBLISHED-TTL:PT1H
BEGIN:VTIMEZONE
TZID:America/Detroit
BEGIN:DAYLIGHT
TZOFFSETFROM:-0500
TZOFFSETTO:-0400
TZNAME:EDT
DTSTART:20230312T070000
END:DAYLIGHT
BEGIN:STANDARD
TZOFFSETFROM:-0400
TZOFFSETTO:-0500
TZNAME:EST
DTSTART:20231105T060000
END:STANDARD
BEGIN:DAYLIGHT
TZOFFSETFROM:-0500
TZOFFSETTO:-0400
TZNAME:EDT
DTSTART:20240310T070000
END:DAYLIGHT
BEGIN:STANDARD
TZOFFSETFROM:-0400
TZOFFSETTO:-0500
TZNAME:EST
DTSTART:20241103T060000
END:STANDARD
BEGIN:DAYLIGHT
TZOFFSETFROM:-0500
TZOFFSETTO:-0400
TZNAME:EDT
DTSTART:20250309T070000
END:DAYLIGHT
BEGIN:STANDARD
TZOFFSETFROM:-0400
TZOFFSETTO:-0500
TZNAME:EST
DTSTART:20251102T060000
END:STANDARD
BEGIN:DAYLIGHT
TZOFFSETFROM:-0500
TZOFFSETTO:-0400
TZNAME:EDT
DTSTART:20260308T070000
END:DAYLIGHT
BEGIN:STANDARD
TZOFFSETFROM:-0400
TZOFFSETTO:-0500
TZNAME:EST
DTSTART:20261101T060000
END:STANDARD
END:VTIMEZONE
BEGIN:VEVENT
DTSTART;TZID=America/Detroit:20250428T190000
DTEND;TZID=America/Detroit:20250428T190000
DTSTAMP:20260423T162826
CREATED:20250328T141939Z
LAST-MODIFIED:20250328T142011Z
UID:7159-1745866800-1745866800@afdegrossepointe.org
SUMMARY:French Cinémathèque: The French Dispatch
DESCRIPTION:French Cinémathèque \nOne Film One Federation (OFOF)\, in collaboration with Telescope Film\, presents a celebration of Francophone cinema offering a curated selection of monthly films through 2025. Alliance Française members can enjoy the monthly selection followed by a free hosted discussion in English with Peter\nDebruge\, Chief Film Critic of Variety. \nTelescope Film\, the only site in the US exclusively for international film and TV\, now offers a dedicated page for France. \nMonday\, April 28   7 pm  The French Dispatch  REGISTER HERE\nLanguage: English (2021) Directed by Wes Anderson\nEditor Arthur Howitzer Jr. runs the French Dispatch\, a satellite publication of the Liberty\, Kansas Evening Sun. After he dies\, the French Dispatch is set to cease operations. The magazine’s journalists assemble for a final issue – a collection of stories set in the fictional 20th century French town of Ennui-sur-Blasé.
URL:https://afdegrossepointe.org/event/french-cinematheque-the-french-dispatch/
LOCATION:Online
CATEGORIES:AF Events,Main
ATTACH;FMTTYPE=image/png:https://afdegrossepointe.org/wp-content/uploads/2025/03/The-French-Dispatch.png
END:VEVENT
BEGIN:VEVENT
DTSTART;VALUE=DATE:20250426
DTEND;VALUE=DATE:20250428
DTSTAMP:20260423T162826
CREATED:20250328T143526Z
LAST-MODIFIED:20250408T175839Z
UID:7165-1745625600-1745798399@afdegrossepointe.org
SUMMARY:Malandain Ballet Bizarritz
DESCRIPTION:Malandain Ballet Biarritz has become one of the most important\ncompanies of the French choreographic landscape. This original\nproduction combines Antonio Vivaldi’s famous Four Seasons\nand the little-known work of his contemporary and compatriot\nGiovanni Antonio Guido\, Seasons. \nMembers of Alliance Française de Grosse Pointe\nEnjoy a 15% discount using promo code: ALLIANCE\nGet Tickets
URL:https://afdegrossepointe.org/event/malandain-ballet-bizarritz/
LOCATION:Detroit Opera House\, 1526 Broadway St\, Detroit\, MI\, 48226\, United States
CATEGORIES:Main
ATTACH;FMTTYPE=image/png:https://afdegrossepointe.org/wp-content/uploads/2025/03/Malandain-Ballet-Bizarritz.png
END:VEVENT
BEGIN:VEVENT
DTSTART;TZID=America/Detroit:20250423T180000
DTEND;TZID=America/Detroit:20250423T200000
DTSTAMP:20260423T162826
CREATED:20250304T184627Z
LAST-MODIFIED:20250328T194116Z
UID:7113-1745431200-1745438400@afdegrossepointe.org
SUMMARY:Groupe de Conversation April
DESCRIPTION:Join us at our monthly French Conversation Group. This event is free of charge and we welcome French speakers of every level. \nFor information\, email afgpeducation@gmail.com. \n\nClick here to RSVP
URL:https://afdegrossepointe.org/event/groupe-de-conversation-march/
LOCATION:Village Grille\, 16930 Kercheval Ave.\, Grosse Pointe Park\, MI\, United States
CATEGORIES:Front Page,Groupe de Conversation,Main
ATTACH;FMTTYPE=image/png:https://afdegrossepointe.org/wp-content/uploads/2025/03/AFGP_Conversation_Group.png
END:VEVENT
BEGIN:VEVENT
DTSTART;TZID=America/Detroit:20250419T133000
DTEND;TZID=America/Detroit:20250419T133000
DTSTAMP:20260423T162826
CREATED:20250328T140426Z
LAST-MODIFIED:20250328T140655Z
UID:7154-1745069400-1745069400@afdegrossepointe.org
SUMMARY:Ciné Club: Tant Que Le Soleil Frappe
DESCRIPTION:Translation: BEATING SUN \nDrama (2022) – Directed by Philippe Petit \nSocially-aware tale of one man’s struggle to convert a square of\nurban Marseilles wasteland into a beautiful garden and a place\nof value for the people rather than the profiteers. Max\, a tenacious\nlandscape architect moonlighting as a gardener\, enters a\ncompetition to rejuvenate the square as a garden space to\nreinforce social bonds in the city.
URL:https://afdegrossepointe.org/event/cine-club-tant-que-le-soleil-frappe/
LOCATION:Grosse Pointe Public Library-Woods Branch\, 20680 Mack Ave.\, Grosse Pointe Woods\, MI\, 48236\, United States
CATEGORIES:Ciné Club,Main
ATTACH;FMTTYPE=image/png:https://afdegrossepointe.org/wp-content/uploads/2025/03/Tant-Que-Le-Soleil-Frappe.png
END:VEVENT
BEGIN:VEVENT
DTSTART;TZID=America/Detroit:20250412T100000
DTEND;TZID=America/Detroit:20250412T100000
DTSTAMP:20260423T162826
CREATED:20250204T181313Z
LAST-MODIFIED:20250204T181416Z
UID:7025-1744452000-1744452000@afdegrossepointe.org
SUMMARY:Cercle de Lecture: Houris
DESCRIPTION:Houris\, de Kamel Daoud 
URL:https://afdegrossepointe.org/event/cercle-de-lecture-houris/
LOCATION:MI
CATEGORIES:Cercle de Lecture,Main
END:VEVENT
BEGIN:VEVENT
DTSTART;TZID=America/Detroit:20250403T160000
DTEND;TZID=America/Detroit:20250403T160000
DTSTAMP:20260423T162826
CREATED:20250328T135416Z
LAST-MODIFIED:20250328T135712Z
UID:7151-1743696000-1743696000@afdegrossepointe.org
SUMMARY:Adventures in the Louvre
DESCRIPTION:with Elaine Sciolino \nThursday\, April 3\,  4 pm ET   REGISTER HERE \nJoin us as Elaine Sciolino\, author of Adventures in the Louvre\,\nguides us on a virtual visit to this magical place.
URL:https://afdegrossepointe.org/event/adventures-in-the-louvre/
LOCATION:Online
CATEGORIES:AF Events,Main
ATTACH;FMTTYPE=image/png:https://afdegrossepointe.org/wp-content/uploads/2025/03/Adventures-in-the-Louvrepng.png
END:VEVENT
BEGIN:VEVENT
DTSTART;TZID=America/Detroit:20250324T190000
DTEND;TZID=America/Detroit:20250324T190000
DTSTAMP:20260423T162826
CREATED:20250305T183221Z
LAST-MODIFIED:20250305T183221Z
UID:7143-1742842800-1742842800@afdegrossepointe.org
SUMMARY:French Cinémathèque: L'événement
DESCRIPTION:The Federation of AF USA’s One Film One Federation program presents French Cinémathèque in collaboration with Telescope Film. Watch the film at home via streaming\, then join us as Peter Debruge\, Chief Film Critic for Variety\, discussion about L’événement. \nREGISTER
URL:https://afdegrossepointe.org/event/french-cinematheque-levenement/
LOCATION:Online
CATEGORIES:AF Events,Main
ATTACH;FMTTYPE=image/png:https://afdegrossepointe.org/wp-content/uploads/2025/03/evenement.png
END:VEVENT
BEGIN:VEVENT
DTSTART;TZID=America/Detroit:20250320T000000
DTEND;TZID=America/Detroit:20250320T235900
DTSTAMP:20260423T162826
CREATED:20250305T181942Z
LAST-MODIFIED:20250305T181942Z
UID:7134-1742428800-1742515140@afdegrossepointe.org
SUMMARY:Le Mois de la Francophonie
DESCRIPTION:The Délégation du Québec à Boston has made 250 free copies of the film Hôtel Silence available to AF members to watch on March 20th\, le Jour de la Francophonie. Register now to get one of the 250 free access links to watch the film. You will receive the link before March 20\, and you will have 24 hours to watch the film from 12:00 AM to 11:59 PM ET. Don’t miss this chance! \nREGISTER HERE
URL:https://afdegrossepointe.org/event/le-mois-de-la-francophonie/
LOCATION:Online
CATEGORIES:AF Events,Main
ATTACH;FMTTYPE=image/jpeg:https://afdegrossepointe.org/wp-content/uploads/2025/03/HOTEL-SILENCE_642x927a.jpg
END:VEVENT
BEGIN:VEVENT
DTSTART;TZID=America/Detroit:20250315T133000
DTEND;TZID=America/Detroit:20250315T133000
DTSTAMP:20260423T162826
CREATED:20250204T193706Z
LAST-MODIFIED:20250305T180602Z
UID:7058-1742045400-1742045400@afdegrossepointe.org
SUMMARY:Ciné Club: Ma famile et le loup
DESCRIPTION:Saturday\, March 15th\, at 1:30 PM  \nMA FAMILLE ET LE LOUP (2018) \nDirector: Adria Gracia \nFiction\, All Audiences\, Adventure \nRunning Time: 1h25m \nEverybody is gathered to celebrate Granny Sara’s 80th birthday at the seaside family house. It’s a beautiful summer for 9 years old Hugo. However\, this year Granny Sara has fallen ill. One night\, she brings together the family to tell the story of the Wolf. Someday the animal will come and take her away forever. Will Hugo manage to protect his grandma from the mysterious beast? \nThis film is appropriate for all ages.
URL:https://afdegrossepointe.org/event/ma-famile-et-le-loup/
LOCATION:Grosse Pointe Public Library-Woods Branch\, 20680 Mack Ave.\, Grosse Pointe Woods\, MI\, 48236\, United States
CATEGORIES:Ciné Club,Front Page,Main
ATTACH;FMTTYPE=image/jpeg:https://afdegrossepointe.org/wp-content/uploads/2025/02/Ma-famille-et-le-loup-1.jpg
END:VEVENT
BEGIN:VEVENT
DTSTART;TZID=America/Detroit:20250312T160000
DTEND;TZID=America/Detroit:20250312T160000
DTSTAMP:20260423T162826
CREATED:20250305T182438Z
LAST-MODIFIED:20250305T183432Z
UID:7137-1741795200-1741795200@afdegrossepointe.org
SUMMARY:Les Filles du Roi
DESCRIPTION:Join us for a discussion with genealogist Lisa Elvin-Staltari of the Société des Filles du Roi et Soldats du Carignan who will talk about the remarkable legacy of the Filles du Roi\, the “King’s Daughters\,” and the soldiers who helped establish New France. \nLisa Elvin-Staltari’s professional background includes over 20 years as a professional teacher\, sales consultant trainer public speaker\, radio host and writer. \nREGISTER
URL:https://afdegrossepointe.org/event/the-rebel-empresses/
LOCATION:Online
CATEGORIES:AF Events,Main
ATTACH;FMTTYPE=image/png:https://afdegrossepointe.org/wp-content/uploads/2025/03/filles-du-roi.png
END:VEVENT
BEGIN:VEVENT
DTSTART;TZID=America/Detroit:20250301T100000
DTEND;TZID=America/Detroit:20250301T100000
DTSTAMP:20260423T162826
CREATED:20250108T145630Z
LAST-MODIFIED:20250108T145630Z
UID:6972-1740823200-1740823200@afdegrossepointe.org
SUMMARY:Cercle de Lecture: Les Jeux de L'Amour et de la Mort
DESCRIPTION:Les Jeux de L’Amour et de la Mort de Fred Vargas
URL:https://afdegrossepointe.org/event/cercle-de-lecture-les-jeux-de-lamour-et-de-la-mort/
LOCATION:MI
CATEGORIES:Cercle de Lecture,Main
END:VEVENT
BEGIN:VEVENT
DTSTART;TZID=America/Detroit:20250224T190000
DTEND;TZID=America/Detroit:20250224T190000
DTSTAMP:20260423T162826
CREATED:20250204T192050Z
LAST-MODIFIED:20250204T192301Z
UID:7052-1740423600-1740423600@afdegrossepointe.org
SUMMARY:French Cinémathèque: Le Comte de Monte Cristo
DESCRIPTION:French Cinémathèque: Le Comte de Monte Cristo\nMonday\, February 24 at 4pm PT / 7pm ET \nREGISTER \nThe Federation of AF USA’s One Film One Federation program presents French Cinémathèque in collaboration with Telescope Film. Watch the film at home via streaming\, then join us as Peter Debruge\, Chief Film Critic for Variety\, discussion about Le Comte de Monte Cristo
URL:https://afdegrossepointe.org/event/french-cinematheque-le-comte-de-monte-cristo/
LOCATION:MI
CATEGORIES:AF Events,Main
ATTACH;FMTTYPE=image/png:https://afdegrossepointe.org/wp-content/uploads/2025/02/Count-of-Monte-Cristo_527x796a.png
END:VEVENT
BEGIN:VEVENT
DTSTART;TZID=America/Detroit:20250223T150000
DTEND;TZID=America/Detroit:20250223T150000
DTSTAMP:20260423T162826
CREATED:20241207T175923Z
LAST-MODIFIED:20250115T150927Z
UID:6810-1740322800-1740322800@afdegrossepointe.org
SUMMARY:Bizet’s Carmen at Orchestra Hall
DESCRIPTION:This beloved opera by French composer Georges Bizet is coming to Detroit. Jader Bignanmini leads an all-star cast with the DSO in a performance celebrating the opera’s 150th anniversary. \nMezzo-soprano J’Nai Bridges has “the allure\, fiery stage presence\, and a stunning voice at its prime” (Chicago Tribune) required for the title role. \nThe AF Grosse Pointe has reserved a block of 20 tickets for the performance.  \nSOLD OUT \nLimited to 20 seats\, first come first serve. Tickets will be delivered to you in February. \nTicket holders are invited to attend an optional pre-concert lecture before the performance\, at 2:00 PM. \nWe hope you can join us in attending this fabulous event together! \nSOLD OUT\n 
URL:https://afdegrossepointe.org/event/bizets-carmen/
LOCATION:Orchestra Hall\, 3711 Woodward Avenue\, MI\, 48201\, United States
CATEGORIES:Front Page,Main
ATTACH;FMTTYPE=image/jpeg:https://afdegrossepointe.org/wp-content/uploads/2024/12/Carmen_DSO.jpg
END:VEVENT
BEGIN:VEVENT
DTSTART;TZID=America/Detroit:20250218T180000
DTEND;TZID=America/Detroit:20250218T180000
DTSTAMP:20260423T162826
CREATED:20250108T150523Z
LAST-MODIFIED:20250204T182514Z
UID:6976-1739901600-1739901600@afdegrossepointe.org
SUMMARY:Groupe de Conversation February
DESCRIPTION:Join us at our monthly French Conversation Group. This event is free of charge and we welcome French speakers of every level. \nFor information\, email afgpeducation@gmail.com. \n\nClick here to RSVP
URL:https://afdegrossepointe.org/event/groupe-de-conversation-february/
LOCATION:Village Grille\, 16930 Kercheval Ave.\, Grosse Pointe Park\, MI\, United States
CATEGORIES:Groupe de Conversation,Main
ATTACH;FMTTYPE=image/jpeg:https://afdegrossepointe.org/wp-content/uploads/2023/12/meetup-450.jpg
END:VEVENT
BEGIN:VEVENT
DTSTART;TZID=America/Detroit:20250215T133000
DTEND;TZID=America/Detroit:20250215T133000
DTSTAMP:20260423T162826
CREATED:20250108T150022Z
LAST-MODIFIED:20250204T183030Z
UID:6974-1739626200-1739626200@afdegrossepointe.org
SUMMARY:CIné Club: Les Choristes
DESCRIPTION:LES CHORISTES (2004) \nDirector: Christophe Barratier\nMusical/Drama\nRunning Time: 1h37m \nPierre is an aimless child at an austere boarding school in France. The students and faculty are constantly at odds with one another\, until a music teacher\, Clement Mathieu\, arrives and starts a choir. Clement tries to change the reactionary policies of the school\, choosing to encourage his students. Amusing\, uplifting\, passionate film that has become a classic.
URL:https://afdegrossepointe.org/event/cine-club-tbd/
LOCATION:Grosse Pointe Public Library-Woods Branch\, 20680 Mack Ave.\, Grosse Pointe Woods\, MI\, 48236\, United States
CATEGORIES:Ciné Club,Main
ATTACH;FMTTYPE=image/jpeg:https://afdegrossepointe.org/wp-content/uploads/2025/01/les-choristes.jpg
END:VEVENT
BEGIN:VEVENT
DTSTART;TZID=America/Detroit:20250215T100000
DTEND;TZID=America/Detroit:20250215T100000
DTSTAMP:20260423T162826
CREATED:20250108T145353Z
LAST-MODIFIED:20250108T145514Z
UID:6969-1739613600-1739613600@afdegrossepointe.org
SUMMARY:Cercle de Lecture: L'ambassadrice
DESCRIPTION:L’ambassadrice de Gilbert Sinoué
URL:https://afdegrossepointe.org/event/cercle-de-lecture-lambassadrice/
LOCATION:MI
CATEGORIES:Cercle de Lecture,Main
END:VEVENT
BEGIN:VEVENT
DTSTART;TZID=America/Detroit:20250213T160000
DTEND;TZID=America/Detroit:20250213T160000
DTSTAMP:20260423T162826
CREATED:20250204T191447Z
LAST-MODIFIED:20250204T191822Z
UID:7045-1739462400-1739462400@afdegrossepointe.org
SUMMARY:Art Dealer Berthe Weill’s Contribution to French Art History: A Conversation with Lynn Gumpert and Beth Gersh-Nesic
DESCRIPTION:Thursday\, February 13\, at 4pm ET\n \nREGISTER
URL:https://afdegrossepointe.org/event/art-dealer-berthe-weills-contribution-to-french-art-history-a-conversation-with-lynn-gumpert-and-beth-gersh-nesic/
LOCATION:MI
CATEGORIES:AF Events,Main
ATTACH;FMTTYPE=image/png:https://afdegrossepointe.org/wp-content/uploads/2025/02/Berthe-Weil-event_741x642a.png
END:VEVENT
BEGIN:VEVENT
DTSTART;TZID=America/Detroit:20250126T140000
DTEND;TZID=America/Detroit:20250126T140000
DTSTAMP:20260423T162826
CREATED:20241209T160100Z
LAST-MODIFIED:20250122T160758Z
UID:6826-1737900000-1737900000@afdegrossepointe.org
SUMMARY:Fête des rois (registration closed)
DESCRIPTION:WHO WILL BE KING? WHO WILL BE QUEEN? \nJoin us for a fun afternoon and enjoy a family oriented French film\, followed by a special dessert. Galette des Rois will be served to all\, and kings and queens will be declared according to the tradition. \nEpiphanie\, or Fête des Rois is a holiday traditionally celebrated on January 6th to commemorate the visit of the Three Kings to Jesus when he was born\, bearing with them precious gifts. Today\, this occasion is commemorated throughout the month of January\, up to Mardi Gras day. A galette des Rois dessert is shared with all present\, and whoever finds a special token\, la fève\, in their piece is declared king or queen. \nTHIS EVENT IS OPEN AND FREE TO ALL AFGP MEMBERS. FAMILY AND FRIENDS ARE ALSO WELCOME. \nREGISTRATION FOR ATTENDING IS MANDATORY IN ORDER TO GUARANTEE YOUR SPOT. \nCHILDREN UNDER 14 MUST BE ACCOMPANIED BY AN ADULT. \nSPACE IS LIMITED\, SO BOOK EARLY! \nRSVP BY JANUARY 21ST. \nSorry\, registration is new closed.
URL:https://afdegrossepointe.org/event/fete-des-rois/
LOCATION:Grosse Pointe History Center\, 375 Kercheval Ave.\, Grosse Pointe Farms\, MI\, 48236\, United States
CATEGORIES:Main
ATTACH;FMTTYPE=image/jpeg:https://afdegrossepointe.org/wp-content/uploads/2024/12/fete_de_rois.jpg
END:VEVENT
BEGIN:VEVENT
DTSTART;TZID=America/Detroit:20250118T133000
DTEND;TZID=America/Detroit:20250118T133000
DTSTAMP:20260423T162826
CREATED:20241207T172628Z
LAST-MODIFIED:20241207T172628Z
UID:6792-1737207000-1737207000@afdegrossepointe.org
SUMMARY:Notre-Dame Brûle
DESCRIPTION:2022 — Thriller/Drama. Running time 1h.50m. \nDirector: Jean-Jacques Annaud \nAn exploration of the impact of the 2019 fire at the medieval cathedral on a diverse group of Parisians\, as inspired by true accounts from French firefighters. Nail-biting\, thrilling\, and dangerous. An homage to the amazing opening in December 2024 following the five-year miraculous reconstruction of this world famous\, iconic and historic cathedral.
URL:https://afdegrossepointe.org/event/notre-dame-brule/
LOCATION:Grosse Pointe Public Library-Woods Branch\, 20680 Mack Ave.\, Grosse Pointe Woods\, MI\, 48236\, United States
CATEGORIES:Ciné Club,Main
ATTACH;FMTTYPE=image/jpeg:https://afdegrossepointe.org/wp-content/uploads/2024/12/MV5BZTNiZmQ4YjUtOTk2NS00ZDIzLTk0N2UtMTQzYjkxMzZlNTYzXkEyXkFqcGc@._V1_.jpg
END:VEVENT
BEGIN:VEVENT
DTSTART;TZID=America/Detroit:20250118T100000
DTEND;TZID=America/Detroit:20250118T100000
DTSTAMP:20260423T162826
CREATED:20241207T173502Z
LAST-MODIFIED:20241210T122107Z
UID:6797-1737194400-1737194400@afdegrossepointe.org
SUMMARY:Cercle de Lecture: Tartuffe de Molière
DESCRIPTION:Members are invited to attend the live performance of Tartuffe at the Hilberry Theatre in Detroit on February 5.
URL:https://afdegrossepointe.org/event/tartuffe-de-moliere/
LOCATION:MI
CATEGORIES:Cercle de Lecture,Main
END:VEVENT
BEGIN:VEVENT
DTSTART;TZID=America/Detroit:20250114T180000
DTEND;TZID=America/Detroit:20250114T180000
DTSTAMP:20260423T162826
CREATED:20241207T173210Z
LAST-MODIFIED:20241207T173210Z
UID:6795-1736877600-1736877600@afdegrossepointe.org
SUMMARY:Groupe de Conversation January
DESCRIPTION:Join us at our monthly French Conversation Group. This event is free of charge and we welcome French speakers of every level. \nFor information\, email afgpeducation@gmail.com. \n\nClick here to RSVP
URL:https://afdegrossepointe.org/event/groupe-de-conversation-january/
LOCATION:Village Grille\, 16930 Kercheval Ave.\, Grosse Pointe Park\, MI\, United States
CATEGORIES:Groupe de Conversation,Main
ATTACH;FMTTYPE=image/jpeg:https://afdegrossepointe.org/wp-content/uploads/2023/12/meetup-450.jpg
END:VEVENT
BEGIN:VEVENT
DTSTART;TZID=America/Detroit:20241217T180000
DTEND;TZID=America/Detroit:20241217T180000
DTSTAMP:20260423T162826
CREATED:20241108T143430Z
LAST-MODIFIED:20241109T144542Z
UID:6664-1734458400-1734458400@afdegrossepointe.org
SUMMARY:Groupe de Conversation Decembre
DESCRIPTION:Join us at our monthly French Conversation Group. This event is free of charge and we welcome French speakers of every level. \nFor information\, email afgpeducation@gmail.com. \n\nClick here to RSVP
URL:https://afdegrossepointe.org/event/groupe-de-conversation-decembre/
LOCATION:Village Grille\, 16930 Kercheval Ave.\, Grosse Pointe Park\, MI\, United States
CATEGORIES:Front Page,Groupe de Conversation,Main
ATTACH;FMTTYPE=image/jpeg:https://afdegrossepointe.org/wp-content/uploads/2023/12/meetup-450.jpg
END:VEVENT
BEGIN:VEVENT
DTSTART;TZID=America/Detroit:20241216T100000
DTEND;TZID=America/Detroit:20241216T100000
DTSTAMP:20260423T162826
CREATED:20240804T144107Z
LAST-MODIFIED:20241109T144913Z
UID:6103-1734343200-1734343200@afdegrossepointe.org
SUMMARY:Cercle de lecture: Ta deuxième vie commence quand tu comprends que tu n’en as qu’une
DESCRIPTION:de Raphaëlle Giordano
URL:https://afdegrossepointe.org/event/cercle-de-lecture-ta-deuxieme-vie-commence-quand-tu-comprends-que-tu-nen-as-quune/
LOCATION:MI
CATEGORIES:Cercle de Lecture,Main
END:VEVENT
BEGIN:VEVENT
DTSTART;TZID=America/Detroit:20241214T134500
DTEND;TZID=America/Detroit:20241214T134500
DTSTAMP:20260423T162826
CREATED:20241108T140916Z
LAST-MODIFIED:20241109T145753Z
UID:6640-1734183900-1734183900@afdegrossepointe.org
SUMMARY:CIné Club: Àma Gloria
DESCRIPTION:2023 | Directed by: Marie Amachoukeli \nEnchanting and tender portrayal of the complex bonds between children and their nannies. A six yr.old and her beloved Cape Verdean nanny are given one last summer to say goodbye; when her nanny must suddenly return home to care for her own children.
URL:https://afdegrossepointe.org/event/ama-gloria/
LOCATION:Grosse Pointe Public Library-Woods Branch\, 20680 Mack Ave.\, Grosse Pointe Woods\, MI\, 48236\, United States
CATEGORIES:Ciné Club,Main
ATTACH;FMTTYPE=image/jpeg:https://afdegrossepointe.org/wp-content/uploads/2024/11/Ama-Gloria.jpg
END:VEVENT
BEGIN:VEVENT
DTSTART;TZID=America/Detroit:20241125T190000
DTEND;TZID=America/Detroit:20241125T200000
DTSTAMP:20260423T162826
CREATED:20241108T181507Z
LAST-MODIFIED:20241108T181507Z
UID:6686-1732561200-1732564800@afdegrossepointe.org
SUMMARY:French Cinémathèque: Linda veut du poulet!
DESCRIPTION:Director: Sébastien Laudenbach and Chiara Malta\nStarring:  Milan Cerisier \nPaulette\, a widow\, wrongfully scolds her daughter\, Linda\, for losing her engagement ring. To make amends\, Paulette will do anything Linda wishes\, and what she desires most is her late father’s favorite meal of chicken and peppers. What ensues is a mother’s chaotic journey to fetch a chicken amidst a city-wide strike to win her daughter’s forgiveness. \nParticipants are encouraged to watch the film via streaming before attending the discussion. The Zoom link will be sent out via email after registration. \nEvent Registration
URL:https://afdegrossepointe.org/event/french-cinematheque-linda-veut-du-poulet/
LOCATION:Online
CATEGORIES:AF Events
ATTACH;FMTTYPE=image/png:https://afdegrossepointe.org/wp-content/uploads/2024/11/Linda-veut-du-poulet.png
END:VEVENT
BEGIN:VEVENT
DTSTART;TZID=America/Detroit:20241120T160000
DTEND;TZID=America/Detroit:20241120T170000
DTSTAMP:20260423T162826
CREATED:20241108T181004Z
LAST-MODIFIED:20241108T181004Z
UID:6683-1732118400-1732122000@afdegrossepointe.org
SUMMARY:A Season in the Other Southern France
DESCRIPTION:Come join James Beard Award-winning food writer and author\, Steve Hoffman\, to talk about his new book\, A Season for That: Lost and Found in the Other Southern France. \nEvent Registration
URL:https://afdegrossepointe.org/event/a-season-in-the-other-southern-france/
LOCATION:Online
CATEGORIES:AF Events
ATTACH;FMTTYPE=image/png:https://afdegrossepointe.org/wp-content/uploads/2024/11/A-season-for-That.png
END:VEVENT
BEGIN:VEVENT
DTSTART;TZID=America/Detroit:20241119T080000
DTEND;TZID=America/Detroit:20241119T170000
DTSTAMP:20260423T162826
CREATED:20241109T145127Z
LAST-MODIFIED:20241109T145711Z
UID:6694-1732003200-1732035600@afdegrossepointe.org
SUMMARY:Cercle de lecture: Vivre Vite
DESCRIPTION:de Brigitte Giraud.
URL:https://afdegrossepointe.org/event/vivre-vite/
LOCATION:MI
CATEGORIES:Cercle de Lecture,Main
END:VEVENT
BEGIN:VEVENT
DTSTART;TZID=America/Detroit:20241118T180000
DTEND;TZID=America/Detroit:20241118T190000
DTSTAMP:20260423T162826
CREATED:20241108T175603Z
LAST-MODIFIED:20241108T180546Z
UID:6677-1731952800-1731956400@afdegrossepointe.org
SUMMARY:The Lost Fleet of New France: French-American Histories
DESCRIPTION:This episode will focus on the The Lost Fleet of New France and the story behind the shipwreck of La Trinité with cultural heritage lawyer James Goold. \nEvent Registration
URL:https://afdegrossepointe.org/event/the-lost-fleet-of-new-france-french-american-histories/
LOCATION:Online
CATEGORIES:AF Events
ATTACH;FMTTYPE=image/jpeg:https://afdegrossepointe.org/wp-content/uploads/2024/11/lost-fleets.jpg
END:VEVENT
BEGIN:VEVENT
DTSTART;TZID=America/Detroit:20241113T160000
DTEND;TZID=America/Detroit:20241113T170000
DTSTAMP:20260423T162826
CREATED:20241108T175056Z
LAST-MODIFIED:20241108T180458Z
UID:6674-1731513600-1731517200@afdegrossepointe.org
SUMMARY:The Story of Perfume
DESCRIPTION:What parts of the world do fragrances come from? Who invented them and what are their main ingredients? Who were the first great perfumers? What role has the fashion industry played in the history of perfume? And much more. \nJoin us for a conversation between Élisabeth de Feydeau\, author of the new book\, The Story of Perfume\, and Rebeca de la Piedra\, renowned Mexican fragrance expert. \nEvent Registration
URL:https://afdegrossepointe.org/event/the-story-of-perfume/
LOCATION:Online
CATEGORIES:AF Events
ATTACH;FMTTYPE=image/png:https://afdegrossepointe.org/wp-content/uploads/2024/11/story-of-perfume.png
END:VEVENT
BEGIN:VEVENT
DTSTART;TZID=America/Detroit:20241112T180000
DTEND;TZID=America/Detroit:20241112T180000
DTSTAMP:20260423T162826
CREATED:20241008T135717Z
LAST-MODIFIED:20241108T142954Z
UID:6522-1731434400-1731434400@afdegrossepointe.org
SUMMARY:Groupe de Conversation Novembre
DESCRIPTION:Join us at our monthly French Conversation Group. This event is free of charge and we welcome French speakers of every level. \nFor information\, email afgpeducation@gmail.com. \n\nClick here to RSVP
URL:https://afdegrossepointe.org/event/groupe-de-conversation-novembre/
LOCATION:Village Grille\, 16930 Kercheval Ave.\, Grosse Pointe Park\, MI\, United States
CATEGORIES:Front Page,Groupe de Conversation
ATTACH;FMTTYPE=image/jpeg:https://afdegrossepointe.org/wp-content/uploads/2023/12/meetup-450.jpg
END:VEVENT
END:VCALENDAR