BEGIN:VCALENDAR
VERSION:2.0
PRODID:-//Alliance Française de Grosse Pointe - ECPv6.15.20//NONSGML v1.0//EN
CALSCALE:GREGORIAN
METHOD:PUBLISH
X-WR-CALNAME:Alliance Française de Grosse Pointe
X-ORIGINAL-URL:https://afdegrossepointe.org
X-WR-CALDESC:Events for Alliance Française de Grosse Pointe
REFRESH-INTERVAL;VALUE=DURATION:PT1H
X-Robots-Tag:noindex
X-PUBLISHED-TTL:PT1H
BEGIN:VTIMEZONE
TZID:America/Detroit
BEGIN:DAYLIGHT
TZOFFSETFROM:-0500
TZOFFSETTO:-0400
TZNAME:EDT
DTSTART:20210314T070000
END:DAYLIGHT
BEGIN:STANDARD
TZOFFSETFROM:-0400
TZOFFSETTO:-0500
TZNAME:EST
DTSTART:20211107T060000
END:STANDARD
BEGIN:DAYLIGHT
TZOFFSETFROM:-0500
TZOFFSETTO:-0400
TZNAME:EDT
DTSTART:20220313T070000
END:DAYLIGHT
BEGIN:STANDARD
TZOFFSETFROM:-0400
TZOFFSETTO:-0500
TZNAME:EST
DTSTART:20221106T060000
END:STANDARD
BEGIN:DAYLIGHT
TZOFFSETFROM:-0500
TZOFFSETTO:-0400
TZNAME:EDT
DTSTART:20230312T070000
END:DAYLIGHT
BEGIN:STANDARD
TZOFFSETFROM:-0400
TZOFFSETTO:-0500
TZNAME:EST
DTSTART:20231105T060000
END:STANDARD
BEGIN:DAYLIGHT
TZOFFSETFROM:-0500
TZOFFSETTO:-0400
TZNAME:EDT
DTSTART:20240310T070000
END:DAYLIGHT
BEGIN:STANDARD
TZOFFSETFROM:-0400
TZOFFSETTO:-0500
TZNAME:EST
DTSTART:20241103T060000
END:STANDARD
END:VTIMEZONE
BEGIN:VEVENT
DTSTART;TZID=America/Detroit:20230218T100000
DTEND;TZID=America/Detroit:20230218T100000
DTSTAMP:20260425T122231
CREATED:20230104T211902Z
LAST-MODIFIED:20230105T200620Z
UID:4282-1676714400-1676714400@afdegrossepointe.org
SUMMARY:Premier sang\, de Amélie Nothomb
DESCRIPTION:(Prix Renaudot 2021\, One Book One Federation 2023 Selection) \nIl ne faut pas sous-estimer la rage de survivre. \nSous la forme d’un conte\, Amélie Nothomb raconte la vie de Patrick\, son père\, doux enfant angélique qui\, jeune adulte\, devra se confronter à la mort. Un magnifique hommage à la figure paternelle mais aussi à un héros de l’ombre\, diplomate à la carrière hors norme. \nCe roman a gagné le Prix Renaudot 2021. \nAmélie Nothomb est née à Kobé en 1967. Dès son premier roman Hygiène de l’assassin paru en 1992\, elle s’est imposée comme une écrivaine singulière. En 1999\, elle obtient avec Stupeur et tremblements le Grand Prix de l’Académie française. Premier sang est son 30 e  roman. \nPour plus d’informations concernant le Cercle de Lecture\, prière de nouscontacter\nalliancefrancaisegrossepointe@gmail.com
URL:https://afdegrossepointe.org/event/premier-sang-de-amelie-nothomb/
LOCATION:MI
CATEGORIES:Cercle de Lecture
ATTACH;FMTTYPE=image/jpeg:https://afdegrossepointe.org/wp-content/uploads/2023/01/premiersang.jpeg
END:VEVENT
BEGIN:VEVENT
DTSTART;TZID=America/Detroit:20230214T160000
DTEND;TZID=America/Detroit:20230214T160000
DTSTAMP:20260425T122231
CREATED:20230104T211625Z
LAST-MODIFIED:20230105T120943Z
UID:4280-1676390400-1676390400@afdegrossepointe.org
SUMMARY:Chef Alain LeNôtre Invites You to Make Financiers
DESCRIPTION:(AF Federation-USA free virtual presentation. Registration required for Zoom link) \nJoin us as we welcome Chef Alain LeNôtre\, who will be sharing his recipe for how to make Financiers. Learn the history of this famous almond pastry and practice preparing it with the best. \nBook This Event
URL:https://afdegrossepointe.org/event/chef-alain-lenotre-invites-you-to-make-financiers/
LOCATION:Online
CATEGORIES:AF Events
ATTACH;FMTTYPE=image/jpeg:https://afdegrossepointe.org/wp-content/uploads/2023/01/Financiers.jpeg
END:VEVENT
BEGIN:VEVENT
DTSTART;TZID=America/Detroit:20230210T120000
DTEND;TZID=America/Detroit:20230210T120000
DTSTAMP:20260425T122231
CREATED:20230203T142803Z
LAST-MODIFIED:20230203T142834Z
UID:4398-1676030400-1676030400@afdegrossepointe.org
SUMMARY:Rodin Collection at the North Carolina Museum of Arts
DESCRIPTION:Online presentation in French \n(AF Federation-USA free virtual presentation. Registration required for Zoom link) \nClick Here to Register
URL:https://afdegrossepointe.org/event/rodin-collection-at-the-north-carolina-museum-of-arts/
LOCATION:Online
CATEGORIES:AF Events
ATTACH;FMTTYPE=image/jpeg:https://afdegrossepointe.org/wp-content/uploads/2023/02/Rodin.jpeg
END:VEVENT
BEGIN:VEVENT
DTSTART;TZID=America/Detroit:20230209T183000
DTEND;TZID=America/Detroit:20230209T203000
DTSTAMP:20260425T122231
CREATED:20230131T114714Z
LAST-MODIFIED:20230131T115225Z
UID:4389-1675967400-1675974600@afdegrossepointe.org
SUMMARY:AFGP French Conversation Meetup
DESCRIPTION:Join us for lively conversation en français! French speakers of all levels are welcome\, whether or not you’re a member of Alliance Française. We’ll be meeting again at Village Grill on Kercheval. The hostess will show you where we’re sitting. Join us for dinner\, or for a drink and hors d’oeuvres. \nRegister for French Conversation Meetup
URL:https://afdegrossepointe.org/event/afgp-french-conversation-meetup/
LOCATION:Antonio’s in the Park\, 15117 Kercheval Ave.\, Grosse Pointe Park\, MI\, 48230\, United States
CATEGORIES:Main
ATTACH;FMTTYPE=image/jpeg:https://afdegrossepointe.org/wp-content/uploads/2022/12/meetup-scaled.jpg
END:VEVENT
BEGIN:VEVENT
DTSTART;TZID=America/Detroit:20230209T160000
DTEND;TZID=America/Detroit:20230209T160000
DTSTAMP:20260425T122231
CREATED:20230203T142251Z
LAST-MODIFIED:20230203T142546Z
UID:4393-1675958400-1675958400@afdegrossepointe.org
SUMMARY:Art Nouveau: From its Origins to its Current Representation (in English)
DESCRIPTION:AF Federation-USA free virtual presentation. Registration required for Zoom link \nClick Here to Register
URL:https://afdegrossepointe.org/event/art-nouveau-from-its-origins-to-its-current-representation-in-english/
LOCATION:Online
CATEGORIES:AF Events
ATTACH;FMTTYPE=image/jpeg:https://afdegrossepointe.org/wp-content/uploads/2023/02/Art-Nouveau.jpeg
END:VEVENT
BEGIN:VEVENT
DTSTART;TZID=America/Detroit:20230206T180000
DTEND;TZID=America/Detroit:20230206T220000
DTSTAMP:20260425T122231
CREATED:20230116T140609Z
LAST-MODIFIED:20230203T141605Z
UID:4355-1675706400-1675720800@afdegrossepointe.org
SUMMARY:Réunion Entre Amis!
DESCRIPTION:Feather Bowling And A Traditional Belgian Dinner\nHave you ever tried feather bowling? \nHere’s your chance to join in the fun with other AF Grosse Pointe members and friends: \nCost: $7 attendance per person  (+ Choose and pay for your own food and drinks) \nMondays at the Cadieux Café are all-you-can-eat mussels\, and feature live blues music\, 8:00-11:00 pm. \nCLICK HERE TO REGISTER AND BUY TICKETS \nClick here to see the Menu \nEvent Agenda:  \nDinner reservations at 6 pm \nFeather bowling kicks off at 8 pm \nWe have reserved both lanes for our group\, and anyone who’s interested can play. Marc Tirikian\, friend of AFGP\, francophone\, and member of the Men’s Feather Bowling League\, will be there to guide us along. \nFeather bowling is a very old traditional Belgian game played with wooden balls shaped similarly to cheese wheels. It has its origins in western Flanders\, Belgium\, bordering northern France\, where it is known as Trabollen. Cadieux Café is proud to be the only home for Feather Bowling in the United States. \nHere is a link for more about the game and its rules. \nCLICK HERE TO REGISTER AND BUY TICKETS
URL:https://afdegrossepointe.org/event/reunion-entre-amis/
LOCATION:Cadieux Café\, 4300 Cadieux Road\, Detroit\, MI\, 48224\, United States
CATEGORIES:Main
END:VEVENT
BEGIN:VEVENT
DTSTART;TZID=America/Detroit:20230129T130000
DTEND;TZID=America/Detroit:20230129T130000
DTSTAMP:20260425T122231
CREATED:20230104T211354Z
LAST-MODIFIED:20230105T110356Z
UID:4277-1674997200-1674997200@afdegrossepointe.org
SUMMARY:Dimanche au DIA
DESCRIPTION:You are invited to meet up with other AFGP members in the Kresge Court inside the DIA at 1:00 pm. Enjoy a libation and/or some food (purchase your own) and a friendly gathering. We will then head to the Film Theater and view a French film\, starting at 2:00 pm.  \nYou are strongly encouraged to purchase movie tickets online early\, in order to guarantee a seat.  \nSaint Omer  \nFrance/2022—directed by Alice Diop | 122 minutes \nRama (Kayije Kagame)\, a successful Parisian journalist\, has come to the small French town of Saint Omer to attend the trial of a young Senegalese woman charged with killing her baby daughter. Although she admits to the act\, Laurence (Guslagie Malanda) cannot or will not describe her motivation\, claiming it was out of her control and adding\, “I don’t know. I hope this trial can help me understand.” \nThe complex mysteries at the heart of this absorbing\, wholly original take on both the courtroom drama and the African immigrant experience unfold like a Russian nesting doll. Is the accused a liar\, a victim\, a sorceress\, or all of the above?   \nFor more information and to purchase tickets: \nhttps://dia.org/events/saint-omer
URL:https://afdegrossepointe.org/event/dimanche-au-dia/
LOCATION:DIA Film Theatre\, 5200 Woodward Ave\, Detroit\, MI\, 48202\, United States
CATEGORIES:Main
ATTACH;FMTTYPE=image/png:https://afdegrossepointe.org/wp-content/uploads/2023/01/saintomer.png
END:VEVENT
BEGIN:VEVENT
DTSTART;TZID=America/Detroit:20230128T140000
DTEND;TZID=America/Detroit:20230128T140000
DTSTAMP:20260425T122231
CREATED:20230104T210806Z
LAST-MODIFIED:20230105T121115Z
UID:4275-1674914400-1674914400@afdegrossepointe.org
SUMMARY:How to Decide Where to Live in France with Adrian Leeds
DESCRIPTION:(AF Federation-USA free virtual presentation. Registration required for Zoom link) \nFor people wanting to move to France who haven’t yet settled on a particular city and want more options\, this is a big topic. There are a lot of places in France to love and it’s easy to view them from rose-colored glasses. Adrian Leeds\, French property expert\, will talk about all those wonderful villages\, towns\, cities\, regions\, etc.\, but with the practical aspects in mind that will help you make the best decisions. \nBook This Event
URL:https://afdegrossepointe.org/event/how-to-decide-where-to-live-in-france-with-adrian-leeds/
LOCATION:Online
CATEGORIES:AF Events
ATTACH;FMTTYPE=image/jpeg:https://afdegrossepointe.org/wp-content/uploads/2023/01/Adrianleeds.jpeg
END:VEVENT
BEGIN:VEVENT
DTSTART;TZID=America/Detroit:20230117T160000
DTEND;TZID=America/Detroit:20230117T160000
DTSTAMP:20260425T122231
CREATED:20230104T210612Z
LAST-MODIFIED:20230105T121057Z
UID:4273-1673971200-1673971200@afdegrossepointe.org
SUMMARY:Paris\, A City of Ideas
DESCRIPTION:(AF Federation-USA free virtual presentation. Registration required for Zoom link) \nJoin us for a discussion with writer and photographer Roger Mummert\, as he presents Paris: A City of Ideas\, exploring the chronology and synthesis of ideas that have transformed the medieval city of Paris into the modern city of today. Presentation in English. \nBook This Event
URL:https://afdegrossepointe.org/event/paris-a-city-of-ideas/
LOCATION:Online
CATEGORIES:AF Events
ATTACH;FMTTYPE=image/jpeg:https://afdegrossepointe.org/wp-content/uploads/2023/01/parispresentation.jpeg
END:VEVENT
BEGIN:VEVENT
DTSTART;TZID=America/Detroit:20230114T133000
DTEND;TZID=America/Detroit:20230114T133000
DTSTAMP:20260425T122231
CREATED:20230104T205340Z
LAST-MODIFIED:20230104T212230Z
UID:4267-1673703000-1673703000@afdegrossepointe.org
SUMMARY:Fragile (2021) – Comédie (One Film One Federation 2023 Selection)
DESCRIPTION:Directed by Emma Benestan \nAz works for an oyster farmer in Sète\, in the Southwest of France. He knows oysters by heart\, he opens them by the hundreds. In one of them\, Az decides to hide a ring\, to ask his girlfriend Jess to marry him. Things don’t go as planned… \nFragile is a One Film\, One Federation 2023 Selection
URL:https://afdegrossepointe.org/event/fragile-2021-comedie-one-film-one-federation-2023-selection/
LOCATION:Grosse Pointe Public Library-Woods Branch\, 20680 Mack Ave.\, Grosse Pointe Woods\, MI\, 48236\, United States
CATEGORIES:Ciné Club,Main
ATTACH;FMTTYPE=image/jpeg:https://afdegrossepointe.org/wp-content/uploads/2023/01/fragile.jpeg
END:VEVENT
BEGIN:VEVENT
DTSTART;TZID=America/Detroit:20230114T100000
DTEND;TZID=America/Detroit:20230114T100000
DTSTAMP:20260425T122231
CREATED:20230104T204804Z
LAST-MODIFIED:20230331T121828Z
UID:4265-1673690400-1673690400@afdegrossepointe.org
SUMMARY:Cercle de Lecture: Les années\, de Annie Ernaux
DESCRIPTION:Dans son livre Les Années\, paru en 2008\, Annie Ernaux évoque souvenirs personnels et histoire collective\, des années 1940 à aujourd’hui. Grâce au récit d’événements\, à la description d’objets\, de photos\, l’auteure nous parle de sa vie\, mais aussi de l’évolution de la société et du temps qui passe. Elle aime à qualifier son livre d’ &quot;autobiographie impersonnelle&quot;. En effet\, c’est bien d’une toute nouvelle forme d’autobiographie qu’il s’agit\, la sienne\, mais aussi\, et peut-être surtout\, la nôtre. \nAnnie Ernaux est Lauréate du prix Nobel de Littérature\, 2022. C’est la première écrivaine française à recevoir cet honneur. \nPour plus d’informations concernant le Cercle de Lecture\, prière de nous contacter\nalliancefrancaisegrossepointe@gmail.com
URL:https://afdegrossepointe.org/event/les-annees-de-annie-ernaux/
LOCATION:MI
CATEGORIES:Cercle de Lecture
ATTACH;FMTTYPE=image/jpeg:https://afdegrossepointe.org/wp-content/uploads/2023/01/lesannees.jpg
END:VEVENT
BEGIN:VEVENT
DTSTART;TZID=America/Detroit:20230111T190000
DTEND;TZID=America/Detroit:20230111T203000
DTSTAMP:20260425T122231
CREATED:20221212T114430Z
LAST-MODIFIED:20230104T212720Z
UID:4230-1673463600-1673469000@afdegrossepointe.org
SUMMARY:AFGP French Conversation Meetup Group
DESCRIPTION:Join us for lively conversation en français! French speakers of all levels are welcome\, whether or not you’re a member of Alliance Française. We’ll be meeting again at Village Grill on Kercheval. The hostess will show you where we’re sitting. Join us for dinner\, or for a drink and hors d’oeuvres. \nRegister for French Conversation Meetup
URL:https://afdegrossepointe.org/event/afgp-french-conversation-meetup-group-3/
LOCATION:Village Grille\, 16930 Kercheval Ave.\, Grosse Pointe Park\, MI\, United States
CATEGORIES:Main
ATTACH;FMTTYPE=image/jpeg:https://afdegrossepointe.org/wp-content/uploads/2022/12/meetup-scaled.jpg
END:VEVENT
BEGIN:VEVENT
DTSTART;TZID=America/Detroit:20230111T160000
DTEND;TZID=America/Detroit:20230111T160000
DTSTAMP:20260425T122231
CREATED:20230104T204204Z
LAST-MODIFIED:20230111T122814Z
UID:4262-1673452800-1673452800@afdegrossepointe.org
SUMMARY:Galette des Rois with Chef LeNôtre (AF Federation-USA virtual event)
DESCRIPTION:Join us as we welcome Chef Alain LeNôtre\, who will be sharing his recipe for how to make a perfect King Cake (la Galette des Rois). Learn from the best how to prepare the traditional cake that French people enjoy during the month of January. \nBook This Event
URL:https://afdegrossepointe.org/event/galette-des-rois-with-chef-lenotre-af-federation-usa-virtual-event/
LOCATION:Online
CATEGORIES:AF Events
ATTACH;FMTTYPE=image/jpeg:https://afdegrossepointe.org/wp-content/uploads/2023/01/Galette.jpeg
END:VEVENT
BEGIN:VEVENT
DTSTART;TZID=America/Detroit:20221217T133000
DTEND;TZID=America/Detroit:20221217T133000
DTSTAMP:20260425T122231
CREATED:20220919T185839Z
LAST-MODIFIED:20221130T123651Z
UID:3621-1671283800-1671283800@afdegrossepointe.org
SUMMARY:Ciné Club: Rémi Sans Famille (Rémi\, Nobody's Boy)
DESCRIPTION:2018 \nStarring Daniel Auteuil and the child actor Maleaume Paquin \nAdapted from the Hector Malot novel\, Sans famille\, the film Rémi Sans Famille retraces the life of young Rémi. An orphan at a very young age\, he soon finds himself roaming the roads with Signor Vitalis\, a mysterious street performer\, a dog\, and a monkey. Can chance encounters\, friendships\, and adventures lead him to discover his true origins?
URL:https://afdegrossepointe.org/event/cine-club-title-tbd/
LOCATION:Grosse Pointe Public Library-Woods Branch\, 20680 Mack Ave.\, Grosse Pointe Woods\, MI\, 48236\, United States
CATEGORIES:Ciné Club
ATTACH;FMTTYPE=image/jpeg:https://afdegrossepointe.org/wp-content/uploads/2022/09/Remi-sans-famille-Affiche.jpeg
END:VEVENT
BEGIN:VEVENT
DTSTART;TZID=America/Detroit:20221217T100000
DTEND;TZID=America/Detroit:20221217T100000
DTSTAMP:20260425T122231
CREATED:20221102T201829Z
LAST-MODIFIED:20221102T202006Z
UID:4074-1671271200-1671271200@afdegrossepointe.org
SUMMARY:Cercle de Lecture: Joyeux Noël\, de Christian Carion
DESCRIPTION:Book Title: Joyeux Noël \nAuthor: Christian Carion
URL:https://afdegrossepointe.org/event/cercle-de-lecture-joyeux-noel-de-christian-carion/
LOCATION:MI
CATEGORIES:Cercle de Lecture
END:VEVENT
BEGIN:VEVENT
DTSTART;TZID=America/Detroit:20221201T190000
DTEND;TZID=America/Detroit:20221201T203000
DTSTAMP:20260425T122231
CREATED:20221102T123401Z
LAST-MODIFIED:20221102T123657Z
UID:4047-1669921200-1669926600@afdegrossepointe.org
SUMMARY:AFGP French Conversation Meetup Group
DESCRIPTION:Join us for lively conversation en français! French speakers of all levels are welcome\, whether or not you’re a member of Alliance Française. We’ll be meeting again at Village Grill on Kercheval. The hostess will show you where we’re sitting. Join us for dinner\, or for a drink and hors d’oeuvres. \nRegister for French Conversation Meetup
URL:https://afdegrossepointe.org/event/afgp-french-conversation-meetup-group-2/
LOCATION:Village Grille\, 16930 Kercheval Ave.\, Grosse Pointe Park\, MI\, United States
CATEGORIES:Main
END:VEVENT
BEGIN:VEVENT
DTSTART;TZID=America/Detroit:20221119T100000
DTEND;TZID=America/Detroit:20221119T100000
DTSTAMP:20260425T122231
CREATED:20220919T192258Z
LAST-MODIFIED:20221102T202108Z
UID:3632-1668852000-1668852000@afdegrossepointe.org
SUMMARY:Cercle de Lecture: Quelqu’un à qui tendre la main\, de Florence Clerfeuille
DESCRIPTION:Book Title: Cercle de Lecture: Quelqu’un à qui tendre la main \nAuthor: Florence Clerfeuille
URL:https://afdegrossepointe.org/event/cercle-de-lecture-quelquun-a-qui-tendre-la/
LOCATION:MI
CATEGORIES:Cercle de Lecture
END:VEVENT
BEGIN:VEVENT
DTSTART;TZID=America/Detroit:20221117T183000
DTEND;TZID=America/Detroit:20221117T213000
DTSTAMP:20260425T122231
CREATED:20220919T191908Z
LAST-MODIFIED:20221011T162452Z
UID:3629-1668709800-1668720600@afdegrossepointe.org
SUMMARY:Beaujolais Nouveau
DESCRIPTION:The Alliance Française of Grosse Pointe \nCordially invites you to \nThe Beaujolais Nouveau Celebration\nEnjoy Music\, Nouveau Beaujolais Wine\, and a wonderful assortment of heavy hors-d’oeuvres \n $45 for AFGP 2022-2023 Members | $50 for Non-Members \nPurchase Tickets\nDownload PDF — RSVP and pay by check
URL:https://afdegrossepointe.org/event/beaujolais-nouveau/
LOCATION:Assumption Cultural Center\, 21800 Marter Rd\, St Clair Shores\, MI\, 48080\, United States
CATEGORIES:Main
ATTACH;FMTTYPE=image/png:https://afdegrossepointe.org/wp-content/uploads/2022/09/84600216_l_BEAUJOLAIS-NOUVEAU.png
END:VEVENT
BEGIN:VEVENT
DTSTART;TZID=America/Detroit:20221112T133000
DTEND;TZID=America/Detroit:20221112T133000
DTSTAMP:20260425T122231
CREATED:20220919T191442Z
LAST-MODIFIED:20221102T121724Z
UID:3627-1668259800-1668259800@afdegrossepointe.org
SUMMARY:Eugénie Grandet
DESCRIPTION:Director: Marc Dugain \nFelix Grandet reigns supreme in his modest house in Saumur where his wife and daughter Eugénie lead a distraction-free existence. Extremely avaricious\, he does not take a favorable view of the parties who rush to ask for his daughter’s hand. \nAdaptation of Balzac’s novel Eugénie Grandet. \nFree Attendance for Alliance Members and Friends
URL:https://afdegrossepointe.org/event/cine-club-title-tbd-2/
LOCATION:Grosse Pointe Public Library-Woods Branch\, 20680 Mack Ave.\, Grosse Pointe Woods\, MI\, 48236\, United States
CATEGORIES:Ciné Club
ATTACH;FMTTYPE=image/jpeg:https://afdegrossepointe.org/wp-content/uploads/2022/09/eugenie-grandet.jpg
END:VEVENT
BEGIN:VEVENT
DTSTART;TZID=America/Detroit:20221027T190000
DTEND;TZID=America/Detroit:20221027T203000
DTSTAMP:20260425T122231
CREATED:20221018T150147Z
LAST-MODIFIED:20221018T150551Z
UID:3965-1666897200-1666902600@afdegrossepointe.org
SUMMARY:AFGP French Conversation Meetup Group
DESCRIPTION:Francophones of all levels are welcome!\n\nRSVP at AFGP French Conversation Meetup
URL:https://afdegrossepointe.org/event/afgp-french-conversation-meetup-group/
LOCATION:Village Grille\, 16930 Kercheval Ave.\, Grosse Pointe Park\, MI\, United States
CATEGORIES:Main
ATTACH;FMTTYPE=image/webp:https://afdegrossepointe.org/wp-content/uploads/2022/10/676x380.webp
END:VEVENT
BEGIN:VEVENT
DTSTART;VALUE=DATE:20221020
DTEND;VALUE=DATE:20221023
DTSTAMP:20260425T122231
CREATED:20220919T190203Z
LAST-MODIFIED:20221011T154659Z
UID:3623-1666224000-1666483199@afdegrossepointe.org
SUMMARY:AFUSA National Convention à Détroit
DESCRIPTION:Sponsorship for the National Convention\nThe local Alliance Française chapters of Detroit and of Grosse Pointe welcome your sponsorship of the closing reception for the Federation of Alliance Française USA national convention set in Detroit. \n\n\n\n\n\n\n\n\nDonate Now\n\n\n\n\n\n\n\n\n 
URL:https://afdegrossepointe.org/event/afusa-national-convention-a-detroit/
LOCATION:MI
CATEGORIES:Main
END:VEVENT
BEGIN:VEVENT
DTSTART;TZID=America/Detroit:20221015T133000
DTEND;TZID=America/Detroit:20221015T133000
DTSTAMP:20260425T122231
CREATED:20220919T203756Z
LAST-MODIFIED:20221011T175753Z
UID:3667-1665840600-1665840600@afdegrossepointe.org
SUMMARY:Ciné Club: Fahim
DESCRIPTION:(The Little Chess Prince) (2019) \nBased on the real-life story of Fahim Mohammad\, world junior chess champion\, born in Bangladesh in 2000\, and currently living and playing in France. A poignant story of struggle\, survival\, and triumph that will charm you and give you a glimpse of immigration struggles in France.  \nFilm is in French with English subtitles- Suitable for all audiences over 13. 
URL:https://afdegrossepointe.org/event/cine-club-title-tbd-3/
LOCATION:Grosse Pointe Public Library-Woods Branch\, 20680 Mack Ave.\, Grosse Pointe Woods\, MI\, 48236\, United States
CATEGORIES:Ciné Club
ATTACH;FMTTYPE=image/jpeg:https://afdegrossepointe.org/wp-content/uploads/2022/09/Fahim.jpeg
END:VEVENT
BEGIN:VEVENT
DTSTART;TZID=America/Detroit:20221015T100000
DTEND;TZID=America/Detroit:20221015T100000
DTSTAMP:20260425T122231
CREATED:20220919T185520Z
LAST-MODIFIED:20220919T185551Z
UID:3619-1665828000-1665828000@afdegrossepointe.org
SUMMARY:Cercle de lecture: Les Souvenirs
DESCRIPTION:Cercle de lecture: Les Souvenirs by David Foenkinos
URL:https://afdegrossepointe.org/event/cercle-de-lecture-les-souvenirs/
LOCATION:MI
CATEGORIES:Cercle de Lecture
END:VEVENT
BEGIN:VEVENT
DTSTART;TZID=America/Detroit:20220924T133000
DTEND;TZID=America/Detroit:20220924T133000
DTSTAMP:20260425T122231
CREATED:20220919T184420Z
LAST-MODIFIED:20220920T132520Z
UID:3613-1664026200-1664026200@afdegrossepointe.org
SUMMARY:Ciné Club: Antoinette dans les Cévennes (My Donkey\, My Lover\, & I)
DESCRIPTION:2020- Romance/Comedy \nFree Attendance to AFGP members and friends.  \nDirected by Caroline Vignal\nStarring Laure Calamy\nRelease (USA theaters): July 2\, 2022 \nAntoinette\, a school teacher\, is looking forward to her long planned summer holiday with her married lover Vladimir\, the father of one of her pupils. When she learns that Vladimir has to cancel because his wife organized a surprise hiking vacation\, Antoinette decides to follow their tracks\, accompanied by a protective donkey named Patrick. \nOfficial trailer: \n\n\n\n\n\nAntoinette\nGrosse Pointe Public Library-Woods Branch
URL:https://afdegrossepointe.org/event/cine-club-antoinette-dans-les-cevennes-my-donkey-my-lover-i/
LOCATION:MI
CATEGORIES:Ciné Club
ATTACH;FMTTYPE=image/png:https://afdegrossepointe.org/wp-content/uploads/2022/08/Alliance-francaise-Website-updates.png
END:VEVENT
END:VCALENDAR