BEGIN:VCALENDAR
VERSION:2.0
PRODID:-//Alliance Française de Grosse Pointe - ECPv6.15.20//NONSGML v1.0//EN
CALSCALE:GREGORIAN
METHOD:PUBLISH
X-ORIGINAL-URL:https://afdegrossepointe.org
X-WR-CALDESC:Events for Alliance Française de Grosse Pointe
REFRESH-INTERVAL;VALUE=DURATION:PT1H
X-Robots-Tag:noindex
X-PUBLISHED-TTL:PT1H
BEGIN:VTIMEZONE
TZID:America/Detroit
BEGIN:DAYLIGHT
TZOFFSETFROM:-0500
TZOFFSETTO:-0400
TZNAME:EDT
DTSTART:20230312T070000
END:DAYLIGHT
BEGIN:STANDARD
TZOFFSETFROM:-0400
TZOFFSETTO:-0500
TZNAME:EST
DTSTART:20231105T060000
END:STANDARD
BEGIN:DAYLIGHT
TZOFFSETFROM:-0500
TZOFFSETTO:-0400
TZNAME:EDT
DTSTART:20240310T070000
END:DAYLIGHT
BEGIN:STANDARD
TZOFFSETFROM:-0400
TZOFFSETTO:-0500
TZNAME:EST
DTSTART:20241103T060000
END:STANDARD
BEGIN:DAYLIGHT
TZOFFSETFROM:-0500
TZOFFSETTO:-0400
TZNAME:EDT
DTSTART:20250309T070000
END:DAYLIGHT
BEGIN:STANDARD
TZOFFSETFROM:-0400
TZOFFSETTO:-0500
TZNAME:EST
DTSTART:20251102T060000
END:STANDARD
BEGIN:DAYLIGHT
TZOFFSETFROM:-0500
TZOFFSETTO:-0400
TZNAME:EDT
DTSTART:20260308T070000
END:DAYLIGHT
BEGIN:STANDARD
TZOFFSETFROM:-0400
TZOFFSETTO:-0500
TZNAME:EST
DTSTART:20261101T060000
END:STANDARD
BEGIN:DAYLIGHT
TZOFFSETFROM:-0500
TZOFFSETTO:-0400
TZNAME:EDT
DTSTART:20270314T070000
END:DAYLIGHT
BEGIN:STANDARD
TZOFFSETFROM:-0400
TZOFFSETTO:-0500
TZNAME:EST
DTSTART:20271107T060000
END:STANDARD
END:VTIMEZONE
BEGIN:VEVENT
DTSTART;TZID=America/Detroit:20260408T180000
DTEND;TZID=America/Detroit:20260408T200000
DTSTAMP:20260423T014758
CREATED:20250602T133344Z
LAST-MODIFIED:20260401T104912Z
UID:7413-1775671200-1775678400@afdegrossepointe.org
SUMMARY:Groupe de Conversation April
DESCRIPTION:Have you ever attended one of our French Conversation Meetups? Every month we welcome new guests from throughout metro Detroit with levels of fluency from intermediate to native francophone. \nWe meet at Village Grill in Grosse Pointe and you don’t have to be a member to attend. Attendance is free\, simply purchase your own food and drink. For more information and to RSVP\, click the button below. You can also email afgpeducation@gmail.com. \n  \n\nClick here to RSVP
URL:https://afdegrossepointe.org/event/groupe-de-conversation-july/
LOCATION:Village Grille\, 16930 Kercheval Ave.\, Grosse Pointe Park\, MI\, United States
CATEGORIES:Groupe de Conversation
ATTACH;FMTTYPE=image/png:https://afdegrossepointe.org/wp-content/uploads/2025/03/AFGP_Conversation_Group.png
END:VEVENT
BEGIN:VEVENT
DTSTART;TZID=America/Detroit:20251111T180000
DTEND;TZID=America/Detroit:20251111T200000
DTSTAMP:20260423T014758
CREATED:20250718T143944Z
LAST-MODIFIED:20251108T113920Z
UID:7606-1762884000-1762891200@afdegrossepointe.org
SUMMARY:Groupe de Conversation November
DESCRIPTION:Join us at our monthly French Conversation Group. This event is free of charge and we welcome French speakers of every level. \nFor information\, email afgpeducation@gmail.com. \n\nClick here to RSVP
URL:https://afdegrossepointe.org/event/groupe-de-conversation-august/
LOCATION:Village Grille\, 16930 Kercheval Ave.\, Grosse Pointe Park\, MI\, United States
CATEGORIES:Groupe de Conversation
ATTACH;FMTTYPE=image/png:https://afdegrossepointe.org/wp-content/uploads/2025/03/AFGP_Conversation_Group.png
END:VEVENT
BEGIN:VEVENT
DTSTART;TZID=America/Detroit:20250624T180000
DTEND;TZID=America/Detroit:20250624T180000
DTSTAMP:20260423T014758
CREATED:20250506T173755Z
LAST-MODIFIED:20250623T195056Z
UID:7256-1750788000-1750788000@afdegrossepointe.org
SUMMARY:Groupe de Conversation June
DESCRIPTION:Potluck Picnic \nJoin us at our monthly French Conversation Group. This event is free of charge and we welcome French speakers of every level. \nFor information\, email afgpeducation@gmail.com. \nNOTE VENUE CHANGE DUE TO HEATWAVE \n\nClick here to RSVP
URL:https://afdegrossepointe.org/event/groupe-de-conversation-june/
LOCATION:Village Grille\, 16930 Kercheval Ave.\, Grosse Pointe Park\, MI\, United States
CATEGORIES:Groupe de Conversation
ATTACH;FMTTYPE=image/jpeg:https://afdegrossepointe.org/wp-content/uploads/2023/09/french-meetup1.jpg
END:VEVENT
BEGIN:VEVENT
DTSTART;TZID=America/Detroit:20250514T180000
DTEND;TZID=America/Detroit:20250514T180000
DTSTAMP:20260423T014758
CREATED:20250506T173418Z
LAST-MODIFIED:20250507T125428Z
UID:7254-1747245600-1747245600@afdegrossepointe.org
SUMMARY:Groupe de Conversation May
DESCRIPTION:Join us at our monthly French Conversation Group. This event is free of charge and we welcome French speakers of every level. \nFor information\, email afgpeducation@gmail.com. \n\nClick here to RSVP
URL:https://afdegrossepointe.org/event/groupe-de-conversation-may/
LOCATION:Village Grille\, 16930 Kercheval Ave.\, Grosse Pointe Park\, MI\, United States
CATEGORIES:Groupe de Conversation
ATTACH;FMTTYPE=image/png:https://afdegrossepointe.org/wp-content/uploads/2025/03/AFGP_Conversation_Group.png
END:VEVENT
BEGIN:VEVENT
DTSTART;TZID=America/Detroit:20250423T180000
DTEND;TZID=America/Detroit:20250423T200000
DTSTAMP:20260423T014758
CREATED:20250304T184627Z
LAST-MODIFIED:20250328T194116Z
UID:7113-1745431200-1745438400@afdegrossepointe.org
SUMMARY:Groupe de Conversation April
DESCRIPTION:Join us at our monthly French Conversation Group. This event is free of charge and we welcome French speakers of every level. \nFor information\, email afgpeducation@gmail.com. \n\nClick here to RSVP
URL:https://afdegrossepointe.org/event/groupe-de-conversation-march/
LOCATION:Village Grille\, 16930 Kercheval Ave.\, Grosse Pointe Park\, MI\, United States
CATEGORIES:Front Page,Groupe de Conversation,Main
ATTACH;FMTTYPE=image/png:https://afdegrossepointe.org/wp-content/uploads/2025/03/AFGP_Conversation_Group.png
END:VEVENT
BEGIN:VEVENT
DTSTART;TZID=America/Detroit:20250218T180000
DTEND;TZID=America/Detroit:20250218T180000
DTSTAMP:20260423T014758
CREATED:20250108T150523Z
LAST-MODIFIED:20250204T182514Z
UID:6976-1739901600-1739901600@afdegrossepointe.org
SUMMARY:Groupe de Conversation February
DESCRIPTION:Join us at our monthly French Conversation Group. This event is free of charge and we welcome French speakers of every level. \nFor information\, email afgpeducation@gmail.com. \n\nClick here to RSVP
URL:https://afdegrossepointe.org/event/groupe-de-conversation-february/
LOCATION:Village Grille\, 16930 Kercheval Ave.\, Grosse Pointe Park\, MI\, United States
CATEGORIES:Groupe de Conversation,Main
ATTACH;FMTTYPE=image/jpeg:https://afdegrossepointe.org/wp-content/uploads/2023/12/meetup-450.jpg
END:VEVENT
BEGIN:VEVENT
DTSTART;TZID=America/Detroit:20250114T180000
DTEND;TZID=America/Detroit:20250114T180000
DTSTAMP:20260423T014758
CREATED:20241207T173210Z
LAST-MODIFIED:20241207T173210Z
UID:6795-1736877600-1736877600@afdegrossepointe.org
SUMMARY:Groupe de Conversation January
DESCRIPTION:Join us at our monthly French Conversation Group. This event is free of charge and we welcome French speakers of every level. \nFor information\, email afgpeducation@gmail.com. \n\nClick here to RSVP
URL:https://afdegrossepointe.org/event/groupe-de-conversation-january/
LOCATION:Village Grille\, 16930 Kercheval Ave.\, Grosse Pointe Park\, MI\, United States
CATEGORIES:Groupe de Conversation,Main
ATTACH;FMTTYPE=image/jpeg:https://afdegrossepointe.org/wp-content/uploads/2023/12/meetup-450.jpg
END:VEVENT
BEGIN:VEVENT
DTSTART;TZID=America/Detroit:20241217T180000
DTEND;TZID=America/Detroit:20241217T180000
DTSTAMP:20260423T014758
CREATED:20241108T143430Z
LAST-MODIFIED:20241109T144542Z
UID:6664-1734458400-1734458400@afdegrossepointe.org
SUMMARY:Groupe de Conversation Decembre
DESCRIPTION:Join us at our monthly French Conversation Group. This event is free of charge and we welcome French speakers of every level. \nFor information\, email afgpeducation@gmail.com. \n\nClick here to RSVP
URL:https://afdegrossepointe.org/event/groupe-de-conversation-decembre/
LOCATION:Village Grille\, 16930 Kercheval Ave.\, Grosse Pointe Park\, MI\, United States
CATEGORIES:Front Page,Groupe de Conversation,Main
ATTACH;FMTTYPE=image/jpeg:https://afdegrossepointe.org/wp-content/uploads/2023/12/meetup-450.jpg
END:VEVENT
BEGIN:VEVENT
DTSTART;TZID=America/Detroit:20241112T180000
DTEND;TZID=America/Detroit:20241112T180000
DTSTAMP:20260423T014758
CREATED:20241008T135717Z
LAST-MODIFIED:20241108T142954Z
UID:6522-1731434400-1731434400@afdegrossepointe.org
SUMMARY:Groupe de Conversation Novembre
DESCRIPTION:Join us at our monthly French Conversation Group. This event is free of charge and we welcome French speakers of every level. \nFor information\, email afgpeducation@gmail.com. \n\nClick here to RSVP
URL:https://afdegrossepointe.org/event/groupe-de-conversation-novembre/
LOCATION:Village Grille\, 16930 Kercheval Ave.\, Grosse Pointe Park\, MI\, United States
CATEGORIES:Front Page,Groupe de Conversation
ATTACH;FMTTYPE=image/jpeg:https://afdegrossepointe.org/wp-content/uploads/2023/12/meetup-450.jpg
END:VEVENT
BEGIN:VEVENT
DTSTART;TZID=America/Detroit:20241015T180000
DTEND;TZID=America/Detroit:20241015T180000
DTSTAMP:20260423T014758
CREATED:20240903T040027Z
LAST-MODIFIED:20241008T135419Z
UID:6168-1729015200-1729015200@afdegrossepointe.org
SUMMARY:Groupe de Conversation Octobre
DESCRIPTION:Join us at our monthly French Conversation Group. This event is free of charge and we welcome French speakers of every level. \nFor information\, email afgpeducation@gmail.com. \nClick here to RSVP
URL:https://afdegrossepointe.org/event/group-de-conversation-octobre/
LOCATION:Village Grille\, 16930 Kercheval Ave.\, Grosse Pointe Park\, MI\, United States
CATEGORIES:Front Page,Groupe de Conversation,Main
ATTACH;FMTTYPE=image/jpeg:https://afdegrossepointe.org/wp-content/uploads/2023/12/meetup-450.jpg
END:VEVENT
BEGIN:VEVENT
DTSTART;TZID=America/Detroit:20240910T180000
DTEND;TZID=America/Detroit:20240910T180000
DTSTAMP:20260423T014758
CREATED:20240405T124228Z
LAST-MODIFIED:20240905T123036Z
UID:5813-1725991200-1725991200@afdegrossepointe.org
SUMMARY:Groupe de Conversation Septembre
DESCRIPTION:Join us at our monthly French Conversation Group. This event is free of charge and we welcome French speakers of every level. \nFor information\, email afgpeducation@gmail.com. \n\nPlease RSVP at Meetup.
URL:https://afdegrossepointe.org/event/afgp-french-conversation-group-2/
LOCATION:Village Grille\, 16930 Kercheval Ave.\, Grosse Pointe Park\, MI\, United States
CATEGORIES:Front Page,Groupe de Conversation,Main
ATTACH;FMTTYPE=image/jpeg:https://afdegrossepointe.org/wp-content/uploads/2023/12/meetup-450.jpg
END:VEVENT
BEGIN:VEVENT
DTSTART;TZID=America/Detroit:20240312T180000
DTEND;TZID=America/Detroit:20240312T180000
DTSTAMP:20260423T014758
CREATED:20240301T161402Z
LAST-MODIFIED:20240301T163016Z
UID:5773-1710266400-1710266400@afdegrossepointe.org
SUMMARY:AFGP French Conversation Group
DESCRIPTION:Join us for dinner\, drinks\, and good conversation “en français” at a new location this month! \nFollow the direct link for more information and please remember to RSVP (below) so we can make sure we have the proper arrangements with the restaurant. \nNos niveaux de langue française varient largement\, donc n&#39;hésitez pas à nous rejoindre\, du\nmoment que vous essayez de garder la conversation en français. \nRSVP\nPlease enable JavaScript in your browser to complete this form.Please enable JavaScript in your browser to complete this form.Name *FirstLastEmail *PhoneList any guests attending with you:Submit
URL:https://afdegrossepointe.org/event/afgp-french-conversation-group/
LOCATION:Da Edoardo Ristorante\, 19767 Mack Ave.\, Grosse Pointe Woods\, MI\, 48236\, United States
CATEGORIES:Front Page,Groupe de Conversation,Main
ATTACH;FMTTYPE=image/jpeg:https://afdegrossepointe.org/wp-content/uploads/2023/12/meetup-450.jpg
END:VEVENT
BEGIN:VEVENT
DTSTART;TZID=America/Detroit:20240213T180000
DTEND;TZID=America/Detroit:20240213T180000
DTSTAMP:20260423T014758
CREATED:20240123T142019Z
LAST-MODIFIED:20240129T212000Z
UID:5681-1707847200-1707847200@afdegrossepointe.org
SUMMARY:French Conversation Group
DESCRIPTION:We are meeting again at the Village Grille in our favorite private area. Join us for dinner\, drinks\, and good conversation “en français”! \nAs promised\, we have shifted our Conversation Group information and RSVP to our own website. We hope this change will make it easier and mainstream all our events on one platform. Use the form below to RSVP so we can make sure we have the proper arrangements with Village Grille. \nNos niveaux de langue française varient largement\, donc n’hésitez pas à nous rejoindre\, du moment que vous essayez de garder la conversation en français. \nRSVP\nPlease enable JavaScript in your browser to complete this form.Please enable JavaScript in your browser to complete this form.Name *FirstLastEmail *PhoneList any guests attending with you:Submit
URL:https://afdegrossepointe.org/event/french-conversation-group/
LOCATION:Village Grille\, 16930 Kercheval Ave.\, Grosse Pointe Park\, MI\, United States
CATEGORIES:Front Page,Groupe de Conversation,Main
ATTACH;FMTTYPE=image/jpeg:https://afdegrossepointe.org/wp-content/uploads/2022/12/meetup-scaled.jpg
END:VEVENT
BEGIN:VEVENT
DTSTART;TZID=America/Detroit:20240109T180000
DTEND;TZID=America/Detroit:20240109T180000
DTSTAMP:20260423T014758
CREATED:20231229T145238Z
LAST-MODIFIED:20240103T122653Z
UID:5551-1704823200-1704823200@afdegrossepointe.org
SUMMARY:Groupe de Conversation
DESCRIPTION:Click HERE to RSVP…\n…so we can add you to the final count for dinner. Hope to see you there!
URL:https://afdegrossepointe.org/event/groupe-de-conversation/
LOCATION:Village Grille\, 16930 Kercheval Ave.\, Grosse Pointe Park\, MI\, United States
CATEGORIES:Front Page,Groupe de Conversation,Main
ATTACH;FMTTYPE=image/jpeg:https://afdegrossepointe.org/wp-content/uploads/2022/12/meetup-scaled.jpg
END:VEVENT
END:VCALENDAR