BEGIN:VCALENDAR
VERSION:2.0
PRODID:-//Alliance Française de Grosse Pointe - ECPv6.15.20//NONSGML v1.0//EN
CALSCALE:GREGORIAN
METHOD:PUBLISH
X-WR-CALNAME:Alliance Française de Grosse Pointe
X-ORIGINAL-URL:https://afdegrossepointe.org
X-WR-CALDESC:Events for Alliance Française de Grosse Pointe
REFRESH-INTERVAL;VALUE=DURATION:PT1H
X-Robots-Tag:noindex
X-PUBLISHED-TTL:PT1H
BEGIN:VTIMEZONE
TZID:America/Detroit
BEGIN:DAYLIGHT
TZOFFSETFROM:-0500
TZOFFSETTO:-0400
TZNAME:EDT
DTSTART:20250309T070000
END:DAYLIGHT
BEGIN:STANDARD
TZOFFSETFROM:-0400
TZOFFSETTO:-0500
TZNAME:EST
DTSTART:20251102T060000
END:STANDARD
BEGIN:DAYLIGHT
TZOFFSETFROM:-0500
TZOFFSETTO:-0400
TZNAME:EDT
DTSTART:20260308T070000
END:DAYLIGHT
BEGIN:STANDARD
TZOFFSETFROM:-0400
TZOFFSETTO:-0500
TZNAME:EST
DTSTART:20261101T060000
END:STANDARD
BEGIN:DAYLIGHT
TZOFFSETFROM:-0500
TZOFFSETTO:-0400
TZNAME:EDT
DTSTART:20270314T070000
END:DAYLIGHT
BEGIN:STANDARD
TZOFFSETFROM:-0400
TZOFFSETTO:-0500
TZNAME:EST
DTSTART:20271107T060000
END:STANDARD
END:VTIMEZONE
BEGIN:VEVENT
DTSTART;TZID=America/Detroit:20260408T180000
DTEND;TZID=America/Detroit:20260408T200000
DTSTAMP:20260423T024526
CREATED:20250602T133344Z
LAST-MODIFIED:20260401T104912Z
UID:7413-1775671200-1775678400@afdegrossepointe.org
SUMMARY:Groupe de Conversation April
DESCRIPTION:Have you ever attended one of our French Conversation Meetups? Every month we welcome new guests from throughout metro Detroit with levels of fluency from intermediate to native francophone. \nWe meet at Village Grill in Grosse Pointe and you don’t have to be a member to attend. Attendance is free\, simply purchase your own food and drink. For more information and to RSVP\, click the button below. You can also email afgpeducation@gmail.com. \n  \n\nClick here to RSVP
URL:https://afdegrossepointe.org/event/groupe-de-conversation-july/
LOCATION:Village Grille\, 16930 Kercheval Ave.\, Grosse Pointe Park\, MI\, United States
CATEGORIES:Groupe de Conversation
ATTACH;FMTTYPE=image/png:https://afdegrossepointe.org/wp-content/uploads/2025/03/AFGP_Conversation_Group.png
END:VEVENT
END:VCALENDAR