BEGIN:VCALENDAR
VERSION:2.0
PRODID:-//Alliance Française de Grosse Pointe - ECPv6.15.20//NONSGML v1.0//EN
CALSCALE:GREGORIAN
METHOD:PUBLISH
X-ORIGINAL-URL:https://afdegrossepointe.org
X-WR-CALDESC:Events for Alliance Française de Grosse Pointe
REFRESH-INTERVAL;VALUE=DURATION:PT1H
X-Robots-Tag:noindex
X-PUBLISHED-TTL:PT1H
BEGIN:VTIMEZONE
TZID:America/Detroit
BEGIN:DAYLIGHT
TZOFFSETFROM:-0500
TZOFFSETTO:-0400
TZNAME:EDT
DTSTART:20220313T070000
END:DAYLIGHT
BEGIN:STANDARD
TZOFFSETFROM:-0400
TZOFFSETTO:-0500
TZNAME:EST
DTSTART:20221106T060000
END:STANDARD
BEGIN:DAYLIGHT
TZOFFSETFROM:-0500
TZOFFSETTO:-0400
TZNAME:EDT
DTSTART:20230312T070000
END:DAYLIGHT
BEGIN:STANDARD
TZOFFSETFROM:-0400
TZOFFSETTO:-0500
TZNAME:EST
DTSTART:20231105T060000
END:STANDARD
BEGIN:DAYLIGHT
TZOFFSETFROM:-0500
TZOFFSETTO:-0400
TZNAME:EDT
DTSTART:20240310T070000
END:DAYLIGHT
BEGIN:STANDARD
TZOFFSETFROM:-0400
TZOFFSETTO:-0500
TZNAME:EST
DTSTART:20241103T060000
END:STANDARD
BEGIN:DAYLIGHT
TZOFFSETFROM:-0500
TZOFFSETTO:-0400
TZNAME:EDT
DTSTART:20250309T070000
END:DAYLIGHT
BEGIN:STANDARD
TZOFFSETFROM:-0400
TZOFFSETTO:-0500
TZNAME:EST
DTSTART:20251102T060000
END:STANDARD
END:VTIMEZONE
BEGIN:VEVENT
DTSTART;TZID=America/Detroit:20240714T170000
DTEND;TZID=America/Detroit:20240714T200000
DTSTAMP:20260422T191354
CREATED:20240509T094316Z
LAST-MODIFIED:20240530T144343Z
UID:5895-1720976400-1720987200@afdegrossepointe.org
SUMMARY:Bastille Day Celebration
DESCRIPTION:The Alliance Française de Grosse Pointe and the Alliance Française de Détroit/French Institute of Michigan will celebrate their traditional Bastille Day together again this year. \nJoin us and enjoy good company in celebration of Bastille Day 2024 at Bayview Yacht Club. In a chic and relaxed atmosphere\, by the Detroit River\, you will enjoy a cocktail party followed by a nice meal \, full cash bar with liquor\, wine and cocktails\, live music entertainment and an art exhibition. \nTwo drinks will be included with your ticket. (This event is adults only) \nThank you to our great partners and sponsors. \nTickets will be $55 if you sign up online and $65 at the door. \nClick here to register\n  \n 
URL:https://afdegrossepointe.org/event/bastille-day-celebration-2/
LOCATION:Bayview Yacht Club\, 100 Clairpointe St\, Detroit\, MI\, 48215\, United States
CATEGORIES:Front Page,Main
ATTACH;FMTTYPE=image/png:https://afdegrossepointe.org/wp-content/uploads/2024/05/Small-Bastille-2022-06-21-at-4.00.57-PM.png
END:VEVENT
BEGIN:VEVENT
DTSTART;TZID=America/Detroit:20240604T173000
DTEND;TZID=America/Detroit:20240604T173000
DTSTAMP:20260422T191354
CREATED:20240405T132911Z
LAST-MODIFIED:20240503T144610Z
UID:5825-1717522200-1717522200@afdegrossepointe.org
SUMMARY:AFGP Annual Picnic And Elections
DESCRIPTION:PICNIC OPEN TO AFGP MEMBERS ONLY \nWe are delighted to bring back our traditional and convivial Picnic Potluck! Please make sure to bring a dish to share with friends\, and your choice of drink. \nFRESHLY GRILLED HAMBURGERS AND HOTDOGS WILL BE PROVIDED \nMEETING AND BOARD ELECTIONS @ 5:30 PM \nPICNIC POTLUCK @ 6:00 PM \nThe park will ONLY allow non-residents of Grosse Pointe Woods listed on the RSVP log we provide. Therefore\, your reply is essential. GPW residents are welcome with their park pass. Find us at Pavilion 1\, by the marina on the far side of the canal. \nYour R.S.V.P. MUST be received by May 30th\, 2024 \nChoose one convenient reply mode:  \nUse the RSVP form below: \nBy email: mamcmicken@gmail.com               \nBy phone: (313) 320-4779 \n\nRSVP HERE\nPlease enable JavaScript in your browser to complete this form.Please enable JavaScript in your browser to complete this form.Name *FirstLastEmail *EventRSVP to the Annual AFGP PicnicNumber of People Attending *OneTwoThreeFourSubmit
URL:https://afdegrossepointe.org/event/afgp-annual-picnic-and-elections/
LOCATION:Grosse Pointe Woods Lakefront Park\, 23000 Jefferson Ave\,\, St Clair Shores\, MI\, 48080\, United States
CATEGORIES:Front Page,Main
ATTACH;FMTTYPE=image/jpeg:https://afdegrossepointe.org/wp-content/uploads/2022/05/IMG_6314-1.jpeg
END:VEVENT
BEGIN:VEVENT
DTSTART;VALUE=DATE:20240517
DTEND;VALUE=DATE:20240520
DTSTAMP:20260422T191354
CREATED:20240405T132619Z
LAST-MODIFIED:20240405T143703Z
UID:5823-1715904000-1716163199@afdegrossepointe.org
SUMMARY:French Heritage Corridor Fourth Annual Conference
DESCRIPTION:“What’s Cooking: Creating Collaboration in the French Heritage Corridor” \nFriday\, May 17- Sunday\, May 19\, 2024 \nFrench Heritage Corridor\, an initiative conceived and led by the French Heritage Society Chicago-Midwest Chapter\, comprises seven states in the Midwest (IA; IL; IN; MI; MN; MO and WI). This network\, joined by waterways connecting with the Mississippi River and the Great Lakes\, transcends borders to recreate in the Midwest what was once la Nouvelle France.  \nThe French Heritage Corridor is dedicated to developing synergy and raising the collective awareness about the rich French history and heritage that has\, since the 17th century\, melded with the vibrant multicultural landscape in what is today the Midwestern United States. \nThe 2024 conference will be held in Monroe\, Michigan. \nFor more information on the daily program and hotel reservations: \nhttps://mailchi.mp/c100a0b5a5b5/fhs_chicago_carnaval_3-2692044?e=ea5ef8823b \nReservations will be available soon. \nMay 17th\, at 2;00 p.m. \nA great opportunity to be involved if not signing up for the whole conference: \nJoin in for a special tour of the Basilica of Ste Anne de Detroit\, ringing of the carillon\, and a FHS/FHC plaque presentation ceremony for the completed 2024 grant restoration work. \nThe Basilica of Ste Anne is one of the FHC 2024 grant recipients\, with monies allocated for the restoration of the church’s carillon bell.  \nThis event is open to the public\, in conjunction with the City of Detroit\, Visit Detroit and Leaders of the Francophone Community.  \nIf you would like to attend as part of the AF Grosse Pointe group\, please email Dr Ann McReynolds at mcmench@gmail.com  \nPossible meetup and carpooling to be planned.
URL:https://afdegrossepointe.org/event/french-heritage-corridor-fourth-annual-conference/
CATEGORIES:Front Page,Main
END:VEVENT
BEGIN:VEVENT
DTSTART;TZID=America/Detroit:20240429T103000
DTEND;TZID=America/Detroit:20240429T140000
DTSTAMP:20260422T191354
CREATED:20240405T132254Z
LAST-MODIFIED:20240405T132254Z
UID:5821-1714386600-1714399200@afdegrossepointe.org
SUMMARY:Friends Of Arts And Flowers At The DIA Elizabeth Sites Kuhlman Lecture
DESCRIPTION:Lecture and Luncheon \nThis year’s speaker is French Master Florist Frédéric Dupré. One of the world’s premier floral designers and teachers\, Dupré was named Best Craftsman in France in 2011 and was a competitor for the World Cup title in 2015. He will focus on architecture and texture\, designing only with organic materials to enlighten and entertain lecture attendees.  \nFor more information and reservations: \nhttps://dia.org/events/friends-art-flowers-elizabeth-sites-kuhlman-lecture
URL:https://afdegrossepointe.org/event/friends-of-arts-and-flowers-at-the-dia-elizabeth-sites-kuhlman-lecture/
CATEGORIES:Front Page,Main
END:VEVENT
BEGIN:VEVENT
DTSTART;TZID=America/Detroit:20240424T180000
DTEND;TZID=America/Detroit:20240424T180000
DTSTAMP:20260422T191354
CREATED:20240405T131908Z
LAST-MODIFIED:20240405T132019Z
UID:5819-1713981600-1713981600@afdegrossepointe.org
SUMMARY:Art Presentation With Wendy Evans
DESCRIPTION:Artist Selfies: Portraits From Paris \nCelebrities\, influencers\, and social media enthusiasts use selfies daily and have mastered “the pose” for their postings. But they have certainly not invented the Selfie.  \nThis presentation looks at self-portraits created by artists working in France.  Vincent van Gogh used his face as a free model to try out painting styles. Artists as different as Elisabeth-Louise Vigée and Gustave Courbet who both painted themselves with their palette and brushes. Others examine themselves in more unusual ways. \nPresenter Wendy Evans is an art historian with advanced degrees from Oxford University\, England and Wayne State University\, Detroit. She taught art history at Wayne\, the Detroit Institute of Arts\, and gives a monthly art history course on Zoom. She loves to share her passion for art. More information is at www.art-talks.org \nPresentation is free and open to the community
URL:https://afdegrossepointe.org/event/art-presentation-with-wendy-evans/
LOCATION:Grosse Pointe Public Library-Woods Branch\, 20680 Mack Ave.\, Grosse Pointe Woods\, MI\, 48236\, United States
CATEGORIES:Front Page,Main
END:VEVENT
BEGIN:VEVENT
DTSTART;TZID=America/Detroit:20240312T180000
DTEND;TZID=America/Detroit:20240312T180000
DTSTAMP:20260422T191354
CREATED:20240301T161402Z
LAST-MODIFIED:20240301T163016Z
UID:5773-1710266400-1710266400@afdegrossepointe.org
SUMMARY:AFGP French Conversation Group
DESCRIPTION:Join us for dinner\, drinks\, and good conversation “en français” at a new location this month! \nFollow the direct link for more information and please remember to RSVP (below) so we can make sure we have the proper arrangements with the restaurant. \nNos niveaux de langue française varient largement\, donc n&#39;hésitez pas à nous rejoindre\, du\nmoment que vous essayez de garder la conversation en français. \nRSVP\nPlease enable JavaScript in your browser to complete this form.Please enable JavaScript in your browser to complete this form.Name *FirstLastEmail *PhoneList any guests attending with you:Submit
URL:https://afdegrossepointe.org/event/afgp-french-conversation-group/
LOCATION:Da Edoardo Ristorante\, 19767 Mack Ave.\, Grosse Pointe Woods\, MI\, 48236\, United States
CATEGORIES:Front Page,Groupe de Conversation,Main
ATTACH;FMTTYPE=image/jpeg:https://afdegrossepointe.org/wp-content/uploads/2023/12/meetup-450.jpg
END:VEVENT
BEGIN:VEVENT
DTSTART;TZID=America/Detroit:20240213T180000
DTEND;TZID=America/Detroit:20240213T180000
DTSTAMP:20260422T191354
CREATED:20240123T142019Z
LAST-MODIFIED:20240129T212000Z
UID:5681-1707847200-1707847200@afdegrossepointe.org
SUMMARY:French Conversation Group
DESCRIPTION:We are meeting again at the Village Grille in our favorite private area. Join us for dinner\, drinks\, and good conversation “en français”! \nAs promised\, we have shifted our Conversation Group information and RSVP to our own website. We hope this change will make it easier and mainstream all our events on one platform. Use the form below to RSVP so we can make sure we have the proper arrangements with Village Grille. \nNos niveaux de langue française varient largement\, donc n’hésitez pas à nous rejoindre\, du moment que vous essayez de garder la conversation en français. \nRSVP\nPlease enable JavaScript in your browser to complete this form.Please enable JavaScript in your browser to complete this form.Name *FirstLastEmail *PhoneList any guests attending with you:Submit
URL:https://afdegrossepointe.org/event/french-conversation-group/
LOCATION:Village Grille\, 16930 Kercheval Ave.\, Grosse Pointe Park\, MI\, United States
CATEGORIES:Front Page,Groupe de Conversation,Main
ATTACH;FMTTYPE=image/jpeg:https://afdegrossepointe.org/wp-content/uploads/2022/12/meetup-scaled.jpg
END:VEVENT
BEGIN:VEVENT
DTSTART;TZID=America/Detroit:20240211T140000
DTEND;TZID=America/Detroit:20240211T140000
DTSTAMP:20260422T191354
CREATED:20240129T210600Z
LAST-MODIFIED:20240129T210600Z
UID:5730-1707660000-1707660000@afdegrossepointe.org
SUMMARY:DIA Film Theatre
DESCRIPTION:Princess Tam Tam \n(France/1932—directed by Edmond T. Gréville)  \nKnown as the “Black Venus” during the zenith of her popularity in the 1920s and 30s\, singer\, dancer\, and actor Josephine Baker was the first black woman to become an international film star\, and a legendary icon of beauty and rare courage. Baker achieved her success far from Hollywood; she moved to paris and appeared in silent movies there. After the introduction of sound\, she starred in singing roles for French musicals including Zou-Zou (1934) and Princess Tam Tam. \n  \nJoin other members of AFGP at the DIA Film Theatre and watch the film as a group. Members might want to grab dinner together afterwards at one of the many restaurants in the area (self planned). 
URL:https://afdegrossepointe.org/event/dia-film-theatre/
LOCATION:DIA Film Theatre\, 5200 Woodward Ave\, Detroit\, MI\, 48202\, United States
CATEGORIES:Front Page,Main
END:VEVENT
BEGIN:VEVENT
DTSTART;TZID=America/Detroit:20240203T120000
DTEND;TZID=America/Detroit:20240203T120000
DTSTAMP:20260422T191354
CREATED:20240123T130706Z
LAST-MODIFIED:20240123T141458Z
UID:5667-1706961600-1706961600@afdegrossepointe.org
SUMMARY:Chandeleur Brunch
DESCRIPTION:Cost: $20 per person\, to be collected IN CASH on the day of the event. \nChoose your choice of two crêpes (sweet and/or savory) with coffee\, tea\, or soft drink and enjoy the company of other AFGP members and friends. \nIn order for the restaurant to accommodate us\, we will need to have a final count. RSVP by Feb. 1st by emailing us to alliancefrancaisegrossepointe@gmail.com \nPlease make sure to indicate your full name and number of people attending. \nNot sure about the origins of La Chandeleur or why we eat crêpes to celebrate?\nEnjoy reading this blog: \nLa Chandeleur: The French Holiday All About Crepes \n \n 
URL:https://afdegrossepointe.org/event/chandeleur-brunch/
LOCATION:Charlie’s Restaurant\, 22315 Harper Ave\, St Clair Shores\, MI\, 48080\, United States
CATEGORIES:Front Page,Main
ATTACH;FMTTYPE=image/jpeg:https://afdegrossepointe.org/wp-content/uploads/2024/01/French-Crepe-holiday.jpg
END:VEVENT
BEGIN:VEVENT
DTSTART;TZID=America/Detroit:20240109T180000
DTEND;TZID=America/Detroit:20240109T180000
DTSTAMP:20260422T191354
CREATED:20231229T145238Z
LAST-MODIFIED:20240103T122653Z
UID:5551-1704823200-1704823200@afdegrossepointe.org
SUMMARY:Groupe de Conversation
DESCRIPTION:Click HERE to RSVP…\n…so we can add you to the final count for dinner. Hope to see you there!
URL:https://afdegrossepointe.org/event/groupe-de-conversation/
LOCATION:Village Grille\, 16930 Kercheval Ave.\, Grosse Pointe Park\, MI\, United States
CATEGORIES:Front Page,Groupe de Conversation,Main
ATTACH;FMTTYPE=image/jpeg:https://afdegrossepointe.org/wp-content/uploads/2022/12/meetup-scaled.jpg
END:VEVENT
BEGIN:VEVENT
DTSTART;TZID=America/Detroit:20231212T180000
DTEND;TZID=America/Detroit:20231212T200000
DTSTAMP:20260422T191354
CREATED:20231123T130307Z
LAST-MODIFIED:20231123T130406Z
UID:5533-1702404000-1702411200@afdegrossepointe.org
SUMMARY:French Conversation Meetup
DESCRIPTION:Join us for conversation en français over dinner or a snack. French speakers of all levels are welcome. \nThis will be the last date scheduled through the MEETUP platform.  Starting in January\, our monthly conversation group will be announced and managed through our AF de Grosse Pointe website. \nClick Here to Register \n 
URL:https://afdegrossepointe.org/event/french-conversation-meetup/
LOCATION:Village Grille\, 16930 Kercheval Ave.\, Grosse Pointe Park\, MI\, United States
CATEGORIES:Front Page,Main
ATTACH;FMTTYPE=image/jpeg:https://afdegrossepointe.org/wp-content/uploads/2022/12/meetup-scaled.jpg
END:VEVENT
BEGIN:VEVENT
DTSTART;TZID=America/Detroit:20231209T133000
DTEND;TZID=America/Detroit:20231209T133000
DTSTAMP:20260422T191354
CREATED:20231124T144127Z
LAST-MODIFIED:20231124T144239Z
UID:5536-1702128600-1702128600@afdegrossepointe.org
SUMMARY:Noël Themed Film - Moderator's Choice
DESCRIPTION:Noël Themed Film – Moderator’s Choice. Enjoy a special afternoon watching an inspiring film centered around Christmas. Bring a friend or a family member!\nFilm is in French with English subtitles.\nPG13
URL:https://afdegrossepointe.org/event/noel-themed-film-moderators-choice/
LOCATION:Grosse Pointe Public Library-Woods Branch\, 20680 Mack Ave.\, Grosse Pointe Woods\, MI\, 48236\, United States
CATEGORIES:Ciné Club,Front Page,Main
ATTACH;FMTTYPE=image/jpeg:https://afdegrossepointe.org/wp-content/uploads/2023/11/99989045_popcorn_question.jpg
END:VEVENT
BEGIN:VEVENT
DTSTART;TZID=America/Detroit:20231121T180000
DTEND;TZID=America/Detroit:20231121T200000
DTSTAMP:20260422T191354
CREATED:20231101T190948Z
LAST-MODIFIED:20231101T190948Z
UID:5482-1700589600-1700596800@afdegrossepointe.org
SUMMARY:AFGP French Conversation Meetup
DESCRIPTION:Join us for dinner\, drinks\, and good conversation “en français”! \nWe are returning to the Village Grille\, in the VIP front room and we hope to see old friends as well as make new ones. \nPlease\, make sure to sign up on the special MeetUp link and RSVP\, so we know you are attending. \nClick here for more information and to register.
URL:https://afdegrossepointe.org/event/afgp-french-conversation-meetup-2/
LOCATION:Village Grille\, 16930 Kercheval Ave.\, Grosse Pointe Park\, MI\, United States
CATEGORIES:Front Page,Main
ATTACH;FMTTYPE=image/jpeg:https://afdegrossepointe.org/wp-content/uploads/2022/12/meetup-scaled.jpg
END:VEVENT
BEGIN:VEVENT
DTSTART;TZID=America/Detroit:20231116T183000
DTEND;TZID=America/Detroit:20231116T213000
DTSTAMP:20260422T191354
CREATED:20230906T131246Z
LAST-MODIFIED:20231102T134827Z
UID:5318-1700159400-1700170200@afdegrossepointe.org
SUMMARY:Beaujolais Nouveau Celebration
DESCRIPTION:Enjoy Music\, Nouveau Beaujolais Wine\, and\nA wonderful assortment of heavy hors-d’oeuvres \n$50 for AFGP 2023-2024 Members and $55 for Non-Members \nRSVP By November 8th \n\nCLICK HERE TO REGISTER \n\nIf you prefer to reserve and pay by check\, you can print out the PDF form and mail it to the provided address. \n 
URL:https://afdegrossepointe.org/event/beaujolais-nouveau-celebration/
LOCATION:Assumption Cultural Center\, 21800 Marter Rd\, St Clair Shores\, MI\, 48080\, United States
CATEGORIES:Front Page,Main
ATTACH;FMTTYPE=image/png:https://afdegrossepointe.org/wp-content/uploads/2022/09/84600216_l_BEAUJOLAIS-NOUVEAU.png
END:VEVENT
BEGIN:VEVENT
DTSTART;TZID=America/Detroit:20231103T160000
DTEND;TZID=America/Detroit:20231103T160000
DTSTAMP:20260422T191354
CREATED:20230906T130732Z
LAST-MODIFIED:20231018T184429Z
UID:5316-1699027200-1699027200@afdegrossepointe.org
SUMMARY:DIA Private Guided Tour with AFGP
DESCRIPTION:DIA PRIVATE GUIDED TOUR \nAfter Cubism: Modern Art in Paris\, 1918-1948 \nThe AF de Grosse Pointe and the DIA have teamed up to offer this exclusive chance for our members. Tour with a senior DIA curator and explore what happened “after cubism”\, primarily in prints\, drawings\, and photographs created in France between the years 1918 and 1948. \nHighlights of the tour will include drawings and prints by Marc Chagall\, le Corbusier\, Henri Matisse\, Pablo Picasso\, Diego Rivera\, and many more. \nThis tour is offered exclusively to current AF Grosse Pointe members (2023-204 paid membership). \nThank you for checking\, but sorry\, the sign up is complete and the tour is fully booked. 
URL:https://afdegrossepointe.org/event/dia-private-guided-tour/
CATEGORIES:Front Page,Main
ATTACH;FMTTYPE=image/jpeg:https://afdegrossepointe.org/wp-content/uploads/2023/09/main.jpg
END:VEVENT
BEGIN:VEVENT
DTSTART;TZID=America/Detroit:20231017T180000
DTEND;TZID=America/Detroit:20231017T200000
DTSTAMP:20260422T191354
CREATED:20231005T182003Z
LAST-MODIFIED:20231005T185341Z
UID:5403-1697565600-1697572800@afdegrossepointe.org
SUMMARY:Pique-nique d'automne AFGP French Conversation Meetup
DESCRIPTION:Last chance this year to meet up for French conversation in the great outdoors! Whether you’ve joined us before or you’re new to our group\, and no matter your level of French\, you’re welcome to join us for friendly conversation and a shared meal. This is a potlock\, so be sure to bring a small dish to share and your own beverage. Cups and plates will be provided. \nThe park closes early in October\, so we’ll be meeting at the home of one of our members in Grosse Pointe Park. I will send the address after I receive your RSVP. \nThe only other requirement for the picnic: Faites de votre mieux pour ne parler qu’en français! 😊 🇫🇷 \nCLICK HERE TO VISIT THE REGISTRATION PAGE
URL:https://afdegrossepointe.org/event/pique-nique-dautomne-afgp-french-conversation-meetup/
CATEGORIES:Front Page,Main
END:VEVENT
BEGIN:VEVENT
DTSTART;TZID=America/Detroit:20230919T180000
DTEND;TZID=America/Detroit:20230919T180000
DTSTAMP:20260422T191354
CREATED:20230905T115052Z
LAST-MODIFIED:20230905T115223Z
UID:5310-1695146400-1695146400@afdegrossepointe.org
SUMMARY:French Conversation Meetup at the Park
DESCRIPTION:Rejoignez notre groupe de conversation qui se rencontre mensuellement pour faire connaissance\, discuter\, et prendre un pot ensemble. Nos rencontres sont conviviales et vous êtes encouragé à parler français quel que soit votre niveau. \nThe French Conversation Meetups at the park have been very popular! No matter your level of French\, beginner\, intermediate or fluent francophone\, you’re invited to join us at Windmill Pointe Park in Grosse Pointe Park at 6: pm on September 19 for friendly conversation en français and our final picnic potluck of the season. It’s absolutely free\, but you must RSVP online through the Meetup site to attend. \nhttps://www.meetup.com/grosse-pointe-french-language-meetup-group/events/295856983
URL:https://afdegrossepointe.org/event/french-conversation-meetup-at-the-park/
LOCATION:Windmill Pointe Park\, 14920 Windmill Pointe Drive\, Grosse Pointe Park\, MI\, 48230\, United States
CATEGORIES:Front Page,Main
ATTACH;FMTTYPE=image/jpeg:https://afdegrossepointe.org/wp-content/uploads/2023/09/french-meetup1.jpg
END:VEVENT
BEGIN:VEVENT
DTSTART;TZID=America/Detroit:20230725T180000
DTEND;TZID=America/Detroit:20230725T210000
DTSTAMP:20260422T191354
CREATED:20230721T152152Z
LAST-MODIFIED:20230721T200710Z
UID:5067-1690308000-1690318800@afdegrossepointe.org
SUMMARY:AFGP French Meetup - Un pique nique au bord du lac
DESCRIPTION:Un pique nique au bord du lac \n\n\n\nWe’re having a pot-luck picnic! Whether you’ve joined us before or you’re new to our group\, we hope you can join us for a friendly gathering of French speakers of all levels. When you RSVP\, please indicate what small dish you’d like to bring to share. You should also bring your own beverage (wine and beer are permitted). We’ll supply the cups/plates etc. \nThe park is open only to residents of Grosse Pointe Park and their guests\, so you MUST RSVP if you’re not a resident of GPP in order to be admitted! I’ll leave word at the gate house with directions for how to find our group. \nThe only other requirement for the picnic: Merci de faire de votre mieux pour ne parler qu’en français!  \n\n\n\nRegister for the Event
URL:https://afdegrossepointe.org/event/afgp-french-meetup-un-pique-nique-au-bord-du-lac/
LOCATION:Windmill Pointe Park\, 14920 Windmill Pointe Drive\, Grosse Pointe Park\, MI\, 48230\, United States
CATEGORIES:Front Page,Main
END:VEVENT
BEGIN:VEVENT
DTSTART;TZID=America/Detroit:20230714T180000
DTEND;TZID=America/Detroit:20230714T210000
DTSTAMP:20260422T191354
CREATED:20230330T150613Z
LAST-MODIFIED:20230712T150911Z
UID:4608-1689357600-1689368400@afdegrossepointe.org
SUMMARY:Bastille Day Celebration
DESCRIPTION:Registration for this event is now closed. We are looking forward to celebrating with those in attendance.\nThank you!\nJoin us and enjoy good company\, live music\, heavy hors d’oeuvres\, dessert\, and drinks in celebration of Bastille Day 2023! \n\nAlliance Française members special ticket price $55\nNon-Alliance Française guests ticket price $60\nChildren 12 and under\, at the special price of $30 (chicken tenders and fries plate)\nIncludes wine and beer bar\n\nLa Fête de la Bastille is a joint event of both Alliance Française chapters in Metro Detroit
URL:https://afdegrossepointe.org/event/bastille-day-celebration/
LOCATION:Blossom Heath Inn\, 24800 Jefferson Ave\, St Clair Shores\, MI\, 48080\, United States
CATEGORIES:Front Page,Main
ATTACH;FMTTYPE=image/png:https://afdegrossepointe.org/wp-content/uploads/2023/05/bastille_day_eiffel.png
END:VEVENT
BEGIN:VEVENT
DTSTART;TZID=America/Detroit:20230624T133000
DTEND;TZID=America/Detroit:20230624T133000
DTSTAMP:20260422T191354
CREATED:20230531T120953Z
LAST-MODIFIED:20230531T170833Z
UID:4969-1687613400-1687613400@afdegrossepointe.org
SUMMARY:Ciné Club: Les choses qu’on dit\, les choses qu’on fait (2021)
DESCRIPTION:Comédie dramatique \nVacations in the French countryside. Daphne\, three months pregnant\, finds herself alone to welcome Maxime\, her boyfriend François’ cousin. François had to leave in a hurry for Paris to cover for a sick colleague. For four days\, while waiting for his return\, Daphne and Maxime get to know each other and share very intimate stories that bring them closer… \nFree event to members and friends
URL:https://afdegrossepointe.org/event/les-choses-quon-dit-les-choses-quon-fait-2021/
LOCATION:Grosse Pointe Public Library-Woods Branch\, 20680 Mack Ave.\, Grosse Pointe Woods\, MI\, 48236\, United States
CATEGORIES:Ciné Club,Front Page,Main
ATTACH;FMTTYPE=image/jpeg:https://afdegrossepointe.org/wp-content/uploads/2023/05/choses.jpg
END:VEVENT
BEGIN:VEVENT
DTSTART;TZID=America/Detroit:20230611T160000
DTEND;TZID=America/Detroit:20230611T180000
DTSTAMP:20260422T191354
CREATED:20230530T112852Z
LAST-MODIFIED:20230531T110648Z
UID:4958-1686499200-1686506400@afdegrossepointe.org
SUMMARY:AFGP French Meetup: French Conversation by The Lake
DESCRIPTION:Our next Meetup will be a celebration of summer! We’ll meet at Windmill Pointe Park for friendly conversation “en français”. Bring your own beverage\, a lawn chair\, and a snack to share. Wine and beer are allowed at the park (plastic cups will be available). \nPlease note that the park is only open to residents of GP Park and their guests\, and non-residents won’t be admitted unless they RSVP online. Attendees’ names will be at the park’s gatehouse. \nPlease\, make sure to sign up on the special MeetUp link and RSVP\, so we can add you to the guest list.
URL:https://afdegrossepointe.org/event/afgp-french-meetup-french-conversation-by-the-lake/
LOCATION:Windmill Pointe Park\, 14920 Windmill Pointe Drive\, Grosse Pointe Park\, MI\, 48230\, United States
CATEGORIES:Front Page,Main
END:VEVENT
BEGIN:VEVENT
DTSTART;TZID=America/Detroit:20230608T173000
DTEND;TZID=America/Detroit:20230608T173000
DTSTAMP:20260422T191354
CREATED:20230330T150024Z
LAST-MODIFIED:20230511T173404Z
UID:4604-1686245400-1686245400@afdegrossepointe.org
SUMMARY:Annual AFGP Picnic and Board Elections
DESCRIPTION:PICNIC OPEN TO AFGP MEMBERS ONLY \nWe are delighted to bring back our traditional and convivial Picnic Potluck! Please make sure to bring a dish to share with friends\, and your choice of drink. \nFRESHLY GRILLED HAMBURGERS AND HOTDOGS WILL BE PROVIDED \nMEETING AND BOARD ELECTIONS @ 5:30 PM \nPICNIC POTLUCK @ 6:00 PM \nThe park will ONLY allow non-residents of Grosse Pointe Woods listed on the RSVP log we provide. Therefore\, your reply is essential. GPW residents are welcome with their park pass. Find us at Pavilion 1\, by the marina on the far side of the canal. \nYour R.S.V.P. MUST be received by June 2nd\, 2023 \nChoose one convenient reply mode:  \n \nBy email: mamcmicken@gmail.com               \nBy phone: (313) 320-4779 \n 
URL:https://afdegrossepointe.org/event/annual-afgp-picnic-and-board-elections/
LOCATION:Grosse Pointe Woods Lakefront Park\, 23000 Jefferson Ave\,\, St Clair Shores\, MI\, 48080\, United States
CATEGORIES:Front Page,Main
END:VEVENT
BEGIN:VEVENT
DTSTART;TZID=America/Detroit:20230525T173000
DTEND;TZID=America/Detroit:20230525T173000
DTSTAMP:20260422T191354
CREATED:20230503T105330Z
LAST-MODIFIED:20230503T105422Z
UID:4804-1685035800-1685035800@afdegrossepointe.org
SUMMARY:Les Braves II: At Water’s Edge Dedication
DESCRIPTION:Grounds Open at 5:30 pm \nDedication ceremony at 6:30 pm \nThe War Memorial welcomes the community for a celebration and the unveiling of Les Braves II: At Water’s Edge – the official twin of the original Les Braves sculpture in Normandy\, France sculpted as a lasting tribute to the western Allies that landed on Omaha Beach on June 6\, 1944 during WW II. \nThis event is free and open to the public.  \nPRE-REGISTRATION IS REQUIRED. \nFor more details about the full program and for registration\, go to: \nhttps://www.warmemorial.org/veterans/lesbraves
URL:https://afdegrossepointe.org/event/les-braves-ii-at-waters-edge-dedication/
LOCATION:Grosse Pointe War Memorial\, 32 Lake Shore Dr\, Grosse Pointe Farms\, MI\, 48236\, United States
CATEGORIES:Front Page,Main
END:VEVENT
BEGIN:VEVENT
DTSTART;TZID=America/Detroit:20230510T180000
DTEND;TZID=America/Detroit:20230510T200000
DTSTAMP:20260422T191354
CREATED:20230502T181314Z
LAST-MODIFIED:20230502T194035Z
UID:4752-1683741600-1683748800@afdegrossepointe.org
SUMMARY:AFGP French Meetup
DESCRIPTION:Join us for dinner\, drinks\, and good conversation “en français”!  \nWe are changing it up this month and meeting in the “The Village”. Join us for a fun early evening dinner and drinks (buy your own). \nPlease\, make sure to sign up on the special MeetUp link and RSVP\, so we know how many are attending.  \nFor more information and to register:  \nhttps://www.meetup.com/grosse-pointe-french-language-meetup-group/events/293133505 \n 
URL:https://afdegrossepointe.org/event/afgp-french-meetup-3/
LOCATION:Village Grille\, 16930 Kercheval Ave.\, Grosse Pointe Park\, MI\, United States
CATEGORIES:Front Page,Main
END:VEVENT
END:VCALENDAR