BEGIN:VCALENDAR
VERSION:2.0
PRODID:-//Alliance Française de Grosse Pointe - ECPv6.15.20//NONSGML v1.0//EN
CALSCALE:GREGORIAN
METHOD:PUBLISH
X-ORIGINAL-URL:https://afdegrossepointe.org
X-WR-CALDESC:Events for Alliance Française de Grosse Pointe
REFRESH-INTERVAL;VALUE=DURATION:PT1H
X-Robots-Tag:noindex
X-PUBLISHED-TTL:PT1H
BEGIN:VTIMEZONE
TZID:America/Detroit
BEGIN:DAYLIGHT
TZOFFSETFROM:-0500
TZOFFSETTO:-0400
TZNAME:EDT
DTSTART:20250309T070000
END:DAYLIGHT
BEGIN:STANDARD
TZOFFSETFROM:-0400
TZOFFSETTO:-0500
TZNAME:EST
DTSTART:20251102T060000
END:STANDARD
BEGIN:DAYLIGHT
TZOFFSETFROM:-0500
TZOFFSETTO:-0400
TZNAME:EDT
DTSTART:20260308T070000
END:DAYLIGHT
BEGIN:STANDARD
TZOFFSETFROM:-0400
TZOFFSETTO:-0500
TZNAME:EST
DTSTART:20261101T060000
END:STANDARD
BEGIN:DAYLIGHT
TZOFFSETFROM:-0500
TZOFFSETTO:-0400
TZNAME:EDT
DTSTART:20270314T070000
END:DAYLIGHT
BEGIN:STANDARD
TZOFFSETFROM:-0400
TZOFFSETTO:-0500
TZNAME:EST
DTSTART:20271107T060000
END:STANDARD
END:VTIMEZONE
BEGIN:VEVENT
DTSTART;TZID=America/Detroit:20260112T174500
DTEND;TZID=America/Detroit:20260112T210000
DTSTAMP:20260422T234743
CREATED:20240123T154012Z
LAST-MODIFIED:20251230T153908Z
UID:5700-1768239900-1768251600@afdegrossepointe.org
SUMMARY:Fête des Rois and Feather Bowling at the Cadieux Café
DESCRIPTION:Have you ever tried feather bowling? Last year’s evening was a ton of fun and we want to do this again! Here’s your chance to spend an evening with other AF Grosse Pointe members and friends: \nWHEN: Monday\, January 12\, 2026 from 5:45-9:00 PM\nWHERE: CADIEUX CAFÉ\n4300 Cadieux Road\, Detroit MI 48224 \nCOST: $10 per person\, for two hours of feather bowling. \nMondays are all-you-can eat mussels at the Cadieux Café. Order and pay for food and drinks at the reserved tables. \nKing’s Cake will be provided to celebrate the Fête des Rois! \nEVENT: Dinner at 5:45 — Feather bowling 7:00-9:00. \nRSVP online with the form below. It is a secure and fast way to register and pay. \nPlease enable JavaScript in your browser to complete this form.Please enable JavaScript in your browser to complete this form.Name *FirstLastEmail *PhoneEventFeather Bowling at the Cadieux CaféNumber of Tickets1 Tickets2 Tickets3 Tickets4 Tickets5 Tickets6 TicketsTotal$0.00Stripe Credit Card *CardName on CardSubmit
URL:https://afdegrossepointe.org/event/feather-bowling-at-cadieux-cafe/
LOCATION:Cadieux Café\, 4300 Cadieux Road\, Detroit\, MI\, 48224\, United States
CATEGORIES:Front Page
ATTACH;FMTTYPE=image/jpeg:https://afdegrossepointe.org/wp-content/uploads/2023/02/IMG_5695.jpg
END:VEVENT
BEGIN:VEVENT
DTSTART;VALUE=DATE:20260117
DTEND;VALUE=DATE:20260118
DTSTAMP:20260422T234743
CREATED:20251230T154853Z
LAST-MODIFIED:20251230T154853Z
UID:7990-1768608000-1768694399@afdegrossepointe.org
SUMMARY:Une Affaire D’Honneur
DESCRIPTION:Drama/History\nDirector: Vincent Perez\n2023 – 1h41m \nA duel is the last place where one can defend their honor in Paris\, 1887. While dueling is banned\, it persists. A charismatic fencing master and an early-day feminist battle side by side\, defying the threats around them. \n 
URL:https://afdegrossepointe.org/event/une-affaire-dhonneur/
CATEGORIES:Ciné Club,Front Page
ATTACH;FMTTYPE=image/jpeg:https://afdegrossepointe.org/wp-content/uploads/2025/12/une-affaire.jpg
END:VEVENT
BEGIN:VEVENT
DTSTART;TZID=America/Detroit:20260117T110000
DTEND;TZID=America/Detroit:20260117T110000
DTSTAMP:20260422T234743
CREATED:20250729T122218Z
LAST-MODIFIED:20251230T152638Z
UID:7692-1768647600-1768647600@afdegrossepointe.org
SUMMARY:En attendant Godot
DESCRIPTION:En attendant Godot\, de Samuel Beckett
URL:https://afdegrossepointe.org/event/le-gone-de-chaaba/
CATEGORIES:Cercle de Lecture,Front Page
END:VEVENT
END:VCALENDAR