BEGIN:VCALENDAR
VERSION:2.0
PRODID:-//Alliance Française de Grosse Pointe - ECPv6.15.20//NONSGML v1.0//EN
CALSCALE:GREGORIAN
METHOD:PUBLISH
X-ORIGINAL-URL:https://afdegrossepointe.org
X-WR-CALDESC:Events for Alliance Française de Grosse Pointe
REFRESH-INTERVAL;VALUE=DURATION:PT1H
X-Robots-Tag:noindex
X-PUBLISHED-TTL:PT1H
BEGIN:VTIMEZONE
TZID:America/Detroit
BEGIN:DAYLIGHT
TZOFFSETFROM:-0500
TZOFFSETTO:-0400
TZNAME:EDT
DTSTART:20240310T070000
END:DAYLIGHT
BEGIN:STANDARD
TZOFFSETFROM:-0400
TZOFFSETTO:-0500
TZNAME:EST
DTSTART:20241103T060000
END:STANDARD
BEGIN:DAYLIGHT
TZOFFSETFROM:-0500
TZOFFSETTO:-0400
TZNAME:EDT
DTSTART:20250309T070000
END:DAYLIGHT
BEGIN:STANDARD
TZOFFSETFROM:-0400
TZOFFSETTO:-0500
TZNAME:EST
DTSTART:20251102T060000
END:STANDARD
BEGIN:DAYLIGHT
TZOFFSETFROM:-0500
TZOFFSETTO:-0400
TZNAME:EDT
DTSTART:20260308T070000
END:DAYLIGHT
BEGIN:STANDARD
TZOFFSETFROM:-0400
TZOFFSETTO:-0500
TZNAME:EST
DTSTART:20261101T060000
END:STANDARD
BEGIN:DAYLIGHT
TZOFFSETFROM:-0500
TZOFFSETTO:-0400
TZNAME:EDT
DTSTART:20270314T070000
END:DAYLIGHT
BEGIN:STANDARD
TZOFFSETFROM:-0400
TZOFFSETTO:-0500
TZNAME:EST
DTSTART:20271107T060000
END:STANDARD
END:VTIMEZONE
BEGIN:VEVENT
DTSTART;TZID=America/Detroit:20250301T100000
DTEND;TZID=America/Detroit:20250301T100000
DTSTAMP:20260422T185014
CREATED:20250108T145630Z
LAST-MODIFIED:20250108T145630Z
UID:6972-1740823200-1740823200@afdegrossepointe.org
SUMMARY:Cercle de Lecture: Les Jeux de L'Amour et de la Mort
DESCRIPTION:Les Jeux de L’Amour et de la Mort de Fred Vargas
URL:https://afdegrossepointe.org/event/cercle-de-lecture-les-jeux-de-lamour-et-de-la-mort/
CATEGORIES:Cercle de Lecture,Main
END:VEVENT
BEGIN:VEVENT
DTSTART;TZID=America/Detroit:20250412T100000
DTEND;TZID=America/Detroit:20250412T100000
DTSTAMP:20260422T185014
CREATED:20250204T181313Z
LAST-MODIFIED:20250204T181416Z
UID:7025-1744452000-1744452000@afdegrossepointe.org
SUMMARY:Cercle de Lecture: Houris
DESCRIPTION:Houris\, de Kamel Daoud 
URL:https://afdegrossepointe.org/event/cercle-de-lecture-houris/
CATEGORIES:Cercle de Lecture,Main
END:VEVENT
BEGIN:VEVENT
DTSTART;TZID=America/Detroit:20250614T100000
DTEND;TZID=America/Detroit:20250614T120000
DTSTAMP:20260422T185014
CREATED:20250508T151742Z
LAST-MODIFIED:20250508T151742Z
UID:7307-1749895200-1749902400@afdegrossepointe.org
SUMMARY:Chaleur Humaine
DESCRIPTION:Chaleur Humaine de Serge Joncour \nCe livre est disponible sur Kindle pour $9.99 
URL:https://afdegrossepointe.org/event/chaleur-humaine/
CATEGORIES:Cercle de Lecture
END:VEVENT
BEGIN:VEVENT
DTSTART;TZID=America/Detroit:20250920T100000
DTEND;TZID=America/Detroit:20250920T100000
DTSTAMP:20260422T185014
CREATED:20250729T122016Z
LAST-MODIFIED:20250729T122016Z
UID:7690-1758362400-1758362400@afdegrossepointe.org
SUMMARY:Les Yeux de Mona
DESCRIPTION:Les Yeux de Mona de Thomas Schlesser\n\n 
URL:https://afdegrossepointe.org/event/les-yeux-de-mona/
CATEGORIES:Cercle de Lecture
END:VEVENT
BEGIN:VEVENT
DTSTART;TZID=America/Detroit:20251115T100000
DTEND;TZID=America/Detroit:20251115T100000
DTSTAMP:20260422T185014
CREATED:20250729T122309Z
LAST-MODIFIED:20250729T122309Z
UID:7694-1763200800-1763200800@afdegrossepointe.org
SUMMARY:La nature humaine
DESCRIPTION:La nature humaine de Serge Joncour
URL:https://afdegrossepointe.org/event/la-nature-humaine/
CATEGORIES:Cercle de Lecture
END:VEVENT
BEGIN:VEVENT
DTSTART;TZID=America/Detroit:20260117T110000
DTEND;TZID=America/Detroit:20260117T110000
DTSTAMP:20260422T185014
CREATED:20250729T122218Z
LAST-MODIFIED:20251230T152638Z
UID:7692-1768647600-1768647600@afdegrossepointe.org
SUMMARY:En attendant Godot
DESCRIPTION:En attendant Godot\, de Samuel Beckett
URL:https://afdegrossepointe.org/event/le-gone-de-chaaba/
CATEGORIES:Cercle de Lecture,Front Page
END:VEVENT
BEGIN:VEVENT
DTSTART;TZID=America/Detroit:20260221T100000
DTEND;TZID=America/Detroit:20260221T100000
DTSTAMP:20260422T185014
CREATED:20260211T125538Z
LAST-MODIFIED:20260211T130117Z
UID:8088-1771668000-1771668000@afdegrossepointe.org
SUMMARY:I’ll Never Be French
DESCRIPTION:Mark Greenside\, écrivain américain sceptique et maladroit en français\, se retrouve à vivre dans un petit village breton. À travers des mésaventures culturelles et humaines\, il découvre l’amitié\, s’intègre lentement et trouve sa place\, malgré les différences.
URL:https://afdegrossepointe.org/event/ill-never-be-french/
CATEGORIES:Cercle de Lecture
ATTACH;FMTTYPE=image/jpeg:https://afdegrossepointe.org/wp-content/uploads/2026/02/never_french.jpeg
END:VEVENT
BEGIN:VEVENT
DTSTART;TZID=America/Detroit:20260307T100000
DTEND;TZID=America/Detroit:20260307T100000
DTSTAMP:20260422T185014
CREATED:20260211T130417Z
LAST-MODIFIED:20260211T130417Z
UID:8091-1772877600-1772877600@afdegrossepointe.org
SUMMARY:En attendant Godot
DESCRIPTION:Deux vagabonds\, Vladimir et Estragon\, accompagnant Godot près d’un arbre. Ils parlent\, se disputent\, plaisantent\, se souviennent mal. L’attente absurde\, le temps circulaire et le sens incertain révèlent la condition humaine\, faite d’espoir\, d’ennui\, de répétition et de silence\, tragique et comique.
URL:https://afdegrossepointe.org/event/en-attendant-godot/
CATEGORIES:Cercle de Lecture
ATTACH;FMTTYPE=image/jpeg:https://afdegrossepointe.org/wp-content/uploads/2026/02/godot.jpeg
END:VEVENT
BEGIN:VEVENT
DTSTART;TZID=America/Detroit:20260418T100000
DTEND;TZID=America/Detroit:20260418T100000
DTSTAMP:20260422T185014
CREATED:20260309T121216Z
LAST-MODIFIED:20260309T121216Z
UID:8180-1776506400-1776506400@afdegrossepointe.org
SUMMARY:Cercle de Lecture - La Vie Secrète d'un Cimetière
DESCRIPTION:Benoît Gallot raconte son quotidien au Cimetière du Père-Lachaise\, révélant la vie humaine\, animale et naturelle cachée dans ce lieu dédié aux morts.
URL:https://afdegrossepointe.org/event/cercle-de-lecture-la-vie-secrete-dun-cimetiere/
CATEGORIES:Cercle de Lecture
ATTACH;FMTTYPE=image/jpeg:https://afdegrossepointe.org/wp-content/uploads/2026/03/la-vie.jpeg
END:VEVENT
END:VCALENDAR