BEGIN:VCALENDAR
VERSION:2.0
PRODID:-//Alliance Française de Grosse Pointe - ECPv6.15.20//NONSGML v1.0//EN
CALSCALE:GREGORIAN
METHOD:PUBLISH
X-WR-CALNAME:Alliance Française de Grosse Pointe
X-ORIGINAL-URL:https://afdegrossepointe.org
X-WR-CALDESC:Events for Alliance Française de Grosse Pointe
REFRESH-INTERVAL;VALUE=DURATION:PT1H
X-Robots-Tag:noindex
X-PUBLISHED-TTL:PT1H
BEGIN:VTIMEZONE
TZID:America/Detroit
BEGIN:DAYLIGHT
TZOFFSETFROM:-0500
TZOFFSETTO:-0400
TZNAME:EDT
DTSTART:20220313T070000
END:DAYLIGHT
BEGIN:STANDARD
TZOFFSETFROM:-0400
TZOFFSETTO:-0500
TZNAME:EST
DTSTART:20221106T060000
END:STANDARD
BEGIN:DAYLIGHT
TZOFFSETFROM:-0500
TZOFFSETTO:-0400
TZNAME:EDT
DTSTART:20230312T070000
END:DAYLIGHT
BEGIN:STANDARD
TZOFFSETFROM:-0400
TZOFFSETTO:-0500
TZNAME:EST
DTSTART:20231105T060000
END:STANDARD
BEGIN:DAYLIGHT
TZOFFSETFROM:-0500
TZOFFSETTO:-0400
TZNAME:EDT
DTSTART:20240310T070000
END:DAYLIGHT
BEGIN:STANDARD
TZOFFSETFROM:-0400
TZOFFSETTO:-0500
TZNAME:EST
DTSTART:20241103T060000
END:STANDARD
END:VTIMEZONE
BEGIN:VEVENT
DTSTART;TZID=America/Detroit:20230925T160000
DTEND;TZID=America/Detroit:20230925T170000
DTSTAMP:20260423T022247
CREATED:20230906T130209Z
LAST-MODIFIED:20230906T130209Z
UID:5314-1695657600-1695661200@afdegrossepointe.org
SUMMARY:One Film One Federation
DESCRIPTION:ONE FILM ONE FEDERATION\nMONTHLY FILM DISCUSSION \nThe Federation of AF USA’s One Film One Federation program is pleased to announce a series of film discussions this fall in partnership with the Jean-Pierre Melville Foundation centered around four films by the famous French director\, Jean-Pierre Melville. Participants are encouraged to watch the films via streaming before each discussion. Discussions will be held via Zoom on the 4th Monday of the month (except for December\, which will be the 3rd Monday.) \nOnline event- In English \nL’Armée des Ombres (1969) \nDirector: Jean-Pierre Melville \nStarring: Lino Ventura\, Paul Meurisse\, Jean-Pierre Cassel\, Simone Signoret \nWatch on: Amazon\, AppleTV\, Google Play\, Vudu\, Microsoft\, YouTube. \nClick here for more information on the film and to register for the discussion. \n 
URL:https://afdegrossepointe.org/event/one-film-one-federation/
LOCATION:Online
CATEGORIES:AF Events,Main
END:VEVENT
END:VCALENDAR