BEGIN:VCALENDAR
VERSION:2.0
PRODID:-//Alliance Française de Grosse Pointe - ECPv6.15.20//NONSGML v1.0//EN
CALSCALE:GREGORIAN
METHOD:PUBLISH
X-WR-CALNAME:Alliance Française de Grosse Pointe
X-ORIGINAL-URL:https://afdegrossepointe.org
X-WR-CALDESC:Events for Alliance Française de Grosse Pointe
REFRESH-INTERVAL;VALUE=DURATION:PT1H
X-Robots-Tag:noindex
X-PUBLISHED-TTL:PT1H
BEGIN:VTIMEZONE
TZID:America/Detroit
BEGIN:DAYLIGHT
TZOFFSETFROM:-0500
TZOFFSETTO:-0400
TZNAME:EDT
DTSTART:20220313T070000
END:DAYLIGHT
BEGIN:STANDARD
TZOFFSETFROM:-0400
TZOFFSETTO:-0500
TZNAME:EST
DTSTART:20221106T060000
END:STANDARD
BEGIN:DAYLIGHT
TZOFFSETFROM:-0500
TZOFFSETTO:-0400
TZNAME:EDT
DTSTART:20230312T070000
END:DAYLIGHT
BEGIN:STANDARD
TZOFFSETFROM:-0400
TZOFFSETTO:-0500
TZNAME:EST
DTSTART:20231105T060000
END:STANDARD
BEGIN:DAYLIGHT
TZOFFSETFROM:-0500
TZOFFSETTO:-0400
TZNAME:EDT
DTSTART:20240310T070000
END:DAYLIGHT
BEGIN:STANDARD
TZOFFSETFROM:-0400
TZOFFSETTO:-0500
TZNAME:EST
DTSTART:20241103T060000
END:STANDARD
END:VTIMEZONE
BEGIN:VEVENT
DTSTART;TZID=America/Detroit:20230506T133000
DTEND;TZID=America/Detroit:20230506T133000
DTSTAMP:20260422T193444
CREATED:20230502T180810Z
LAST-MODIFIED:20230503T113912Z
UID:4750-1683379800-1683379800@afdegrossepointe.org
SUMMARY:Haïti: Pearl of the Caribbean
DESCRIPTION:AFGP member\, Frantzie Beauduy was born in Haïti and moved to the US when she was seventeen. She is delighted to share wonderful photos and insights into this island nation to which she has to returned many times.  \nAttending members will get a chance to participate in a Q&A session after the presentation.  \nAttendance if free to AFGP members and friends. 
URL:https://afdegrossepointe.org/event/haiti-pearl-of-the-caribbean-2/
LOCATION:Grosse Pointe Public Library-Woods Branch\, 20680 Mack Ave.\, Grosse Pointe Woods\, MI\, 48236\, United States
CATEGORIES:Ciné Club,Main
ATTACH;FMTTYPE=image/jpeg:https://afdegrossepointe.org/wp-content/uploads/2023/05/IMG_5959.jpg
END:VEVENT
END:VCALENDAR