BEGIN:VCALENDAR
VERSION:2.0
PRODID:-//Alliance Française de Grosse Pointe - ECPv6.15.20//NONSGML v1.0//EN
CALSCALE:GREGORIAN
METHOD:PUBLISH
X-WR-CALNAME:Alliance Française de Grosse Pointe
X-ORIGINAL-URL:https://afdegrossepointe.org
X-WR-CALDESC:Events for Alliance Française de Grosse Pointe
REFRESH-INTERVAL;VALUE=DURATION:PT1H
X-Robots-Tag:noindex
X-PUBLISHED-TTL:PT1H
BEGIN:VTIMEZONE
TZID:America/Detroit
BEGIN:DAYLIGHT
TZOFFSETFROM:-0500
TZOFFSETTO:-0400
TZNAME:EDT
DTSTART:20220313T070000
END:DAYLIGHT
BEGIN:STANDARD
TZOFFSETFROM:-0400
TZOFFSETTO:-0500
TZNAME:EST
DTSTART:20221106T060000
END:STANDARD
BEGIN:DAYLIGHT
TZOFFSETFROM:-0500
TZOFFSETTO:-0400
TZNAME:EDT
DTSTART:20230312T070000
END:DAYLIGHT
BEGIN:STANDARD
TZOFFSETFROM:-0400
TZOFFSETTO:-0500
TZNAME:EST
DTSTART:20231105T060000
END:STANDARD
BEGIN:DAYLIGHT
TZOFFSETFROM:-0500
TZOFFSETTO:-0400
TZNAME:EDT
DTSTART:20240310T070000
END:DAYLIGHT
BEGIN:STANDARD
TZOFFSETFROM:-0400
TZOFFSETTO:-0500
TZNAME:EST
DTSTART:20241103T060000
END:STANDARD
END:VTIMEZONE
BEGIN:VEVENT
DTSTART;VALUE=DATE:20230316
DTEND;VALUE=DATE:20230317
DTSTAMP:20260424T214300
CREATED:20230302T172502Z
LAST-MODIFIED:20230302T173123Z
UID:4487-1678924800-1679011199@afdegrossepointe.org
SUMMARY:French Heritage Night with the Pistons
DESCRIPTION:Join the French-American Chamber of Commerce (FACC) and other Francophiles as the Detroit Pistons take on the Denver Nuggets!\nArrive early for a special French Heritage pre-game performance! \nWith the purchase of a ticket through the special FACC link\, you receive an exclusive French Heritage Pistons shirt that you can redeem at the Pistons game. \nYou will also have the opportunity to take a post-game free throw on the Pistons court.\nPlease place orders quickly because spots are limited. \nFor more information and for ticket purchase head to the FACC website.
URL:https://afdegrossepointe.org/event/french-heritage-night-with-the-pistons/
LOCATION:Little Caesars Arena\, 2645 Woodward Ave\, Detroit\, MI\, 48201\, United States
CATEGORIES:Main
END:VEVENT
END:VCALENDAR