BEGIN:VCALENDAR
VERSION:2.0
PRODID:-//Alliance Française de Grosse Pointe - ECPv6.15.20//NONSGML v1.0//EN
CALSCALE:GREGORIAN
METHOD:PUBLISH
X-WR-CALNAME:Alliance Française de Grosse Pointe
X-ORIGINAL-URL:https://afdegrossepointe.org
X-WR-CALDESC:Events for Alliance Française de Grosse Pointe
REFRESH-INTERVAL;VALUE=DURATION:PT1H
X-Robots-Tag:noindex
X-PUBLISHED-TTL:PT1H
BEGIN:VTIMEZONE
TZID:America/Detroit
BEGIN:DAYLIGHT
TZOFFSETFROM:-0500
TZOFFSETTO:-0400
TZNAME:EDT
DTSTART:20230312T070000
END:DAYLIGHT
BEGIN:STANDARD
TZOFFSETFROM:-0400
TZOFFSETTO:-0500
TZNAME:EST
DTSTART:20231105T060000
END:STANDARD
BEGIN:DAYLIGHT
TZOFFSETFROM:-0500
TZOFFSETTO:-0400
TZNAME:EDT
DTSTART:20240310T070000
END:DAYLIGHT
BEGIN:STANDARD
TZOFFSETFROM:-0400
TZOFFSETTO:-0500
TZNAME:EST
DTSTART:20241103T060000
END:STANDARD
BEGIN:DAYLIGHT
TZOFFSETFROM:-0500
TZOFFSETTO:-0400
TZNAME:EDT
DTSTART:20250309T070000
END:DAYLIGHT
BEGIN:STANDARD
TZOFFSETFROM:-0400
TZOFFSETTO:-0500
TZNAME:EST
DTSTART:20251102T060000
END:STANDARD
END:VTIMEZONE
BEGIN:VEVENT
DTSTART;TZID=America/Detroit:20241009T173000
DTEND;TZID=America/Detroit:20241009T173000
DTSTAMP:20260421T191143
CREATED:20240903T135518Z
LAST-MODIFIED:20240903T165421Z
UID:6176-1728495000-1728495000@afdegrossepointe.org
SUMMARY:French Cultural Event in Detroit
DESCRIPTION:Lecture: 5:30 PM at DIA\nDinner:  7:00 PM at Baobab Fare \nJoin us for a lecture at the DIA followed by dinner on October 9\, 2024. Dr. Laurent Salomé\, Director of the National Museum of Versailles Palace and Trianon\, will be giving the 2024 Dr. Coleman Mopper Memorial Lecture at the DIA at 5:30 pm on October 9\, 2024. \nAFGP has reserved a block of 14 tickets to the lecture followed by dinner reservations at Baobab Fare\, an East African restaurant founded by refugees from Burundi. Tickets to the lecture are free of charge\, and guests will order and pay for their own meal at dinner. \nThis event is limited to 14 people. Attendees will meet in the lecture hall at the DIA. To reserve or for additional information\, contact afgpeducation@gmail.com.
URL:https://afdegrossepointe.org/event/french-cultural-event-in-detroit/
LOCATION:Detroit Institute of Arts\, 5200 Woodward Ave\, Detroit\, MI\, 48202\, United States
CATEGORIES:Main
END:VEVENT
END:VCALENDAR