BEGIN:VCALENDAR
VERSION:2.0
PRODID:-//Alliance Française de Grosse Pointe - ECPv6.15.20//NONSGML v1.0//EN
CALSCALE:GREGORIAN
METHOD:PUBLISH
X-WR-CALNAME:Alliance Française de Grosse Pointe
X-ORIGINAL-URL:https://afdegrossepointe.org
X-WR-CALDESC:Events for Alliance Française de Grosse Pointe
REFRESH-INTERVAL;VALUE=DURATION:PT1H
X-Robots-Tag:noindex
X-PUBLISHED-TTL:PT1H
BEGIN:VTIMEZONE
TZID:America/Detroit
BEGIN:DAYLIGHT
TZOFFSETFROM:-0500
TZOFFSETTO:-0400
TZNAME:EDT
DTSTART:20230312T070000
END:DAYLIGHT
BEGIN:STANDARD
TZOFFSETFROM:-0400
TZOFFSETTO:-0500
TZNAME:EST
DTSTART:20231105T060000
END:STANDARD
BEGIN:DAYLIGHT
TZOFFSETFROM:-0500
TZOFFSETTO:-0400
TZNAME:EDT
DTSTART:20240310T070000
END:DAYLIGHT
BEGIN:STANDARD
TZOFFSETFROM:-0400
TZOFFSETTO:-0500
TZNAME:EST
DTSTART:20241103T060000
END:STANDARD
BEGIN:DAYLIGHT
TZOFFSETFROM:-0500
TZOFFSETTO:-0400
TZNAME:EDT
DTSTART:20250309T070000
END:DAYLIGHT
BEGIN:STANDARD
TZOFFSETFROM:-0400
TZOFFSETTO:-0500
TZNAME:EST
DTSTART:20251102T060000
END:STANDARD
END:VTIMEZONE
BEGIN:VEVENT
DTSTART;TZID=America/Detroit:20240323T133000
DTEND;TZID=America/Detroit:20240323T133000
DTSTAMP:20260422T102948
CREATED:20240301T162826Z
LAST-MODIFIED:20240301T162917Z
UID:5777-1711200600-1711200600@afdegrossepointe.org
SUMMARY:Ciné Club: Moderator’s Pick
DESCRIPTION:Come spend the afternoon with us and enjoy a surprise film\, picked especially for the month of March. A discussion in English will follow. As always\, the movie is in French with English subtitles. Free attendance for all AFGP members and friends. \nPlease be aware of the venue change. We will be at the GP Central Library for March.
URL:https://afdegrossepointe.org/event/cine-club-moderators-pick/
LOCATION:Grosse Pointe Public Library – Central Library\, 10 Kercheval Ave.\, Grosse Pointe Farms\, MI\, 48236\, United States
CATEGORIES:Ciné Club,Main
END:VEVENT
END:VCALENDAR