BEGIN:VCALENDAR
VERSION:2.0
PRODID:-//Alliance Française de Grosse Pointe - ECPv6.15.20//NONSGML v1.0//EN
CALSCALE:GREGORIAN
METHOD:PUBLISH
X-WR-CALNAME:Alliance Française de Grosse Pointe
X-ORIGINAL-URL:https://afdegrossepointe.org
X-WR-CALDESC:Events for Alliance Française de Grosse Pointe
REFRESH-INTERVAL;VALUE=DURATION:PT1H
X-Robots-Tag:noindex
X-PUBLISHED-TTL:PT1H
BEGIN:VTIMEZONE
TZID:America/Detroit
BEGIN:DAYLIGHT
TZOFFSETFROM:-0500
TZOFFSETTO:-0400
TZNAME:EDT
DTSTART:20220313T070000
END:DAYLIGHT
BEGIN:STANDARD
TZOFFSETFROM:-0400
TZOFFSETTO:-0500
TZNAME:EST
DTSTART:20221106T060000
END:STANDARD
BEGIN:DAYLIGHT
TZOFFSETFROM:-0500
TZOFFSETTO:-0400
TZNAME:EDT
DTSTART:20230312T070000
END:DAYLIGHT
BEGIN:STANDARD
TZOFFSETFROM:-0400
TZOFFSETTO:-0500
TZNAME:EST
DTSTART:20231105T060000
END:STANDARD
BEGIN:DAYLIGHT
TZOFFSETFROM:-0500
TZOFFSETTO:-0400
TZNAME:EDT
DTSTART:20240310T070000
END:DAYLIGHT
BEGIN:STANDARD
TZOFFSETFROM:-0400
TZOFFSETTO:-0500
TZNAME:EST
DTSTART:20241103T060000
END:STANDARD
END:VTIMEZONE
BEGIN:VEVENT
DTSTART;TZID=America/Detroit:20231028T014500
DTEND;TZID=America/Detroit:20231028T134500
DTSTAMP:20260423T021846
CREATED:20231005T185649Z
LAST-MODIFIED:20231006T122525Z
UID:5407-1698457500-1698500700@afdegrossepointe.org
SUMMARY:Ciné Club: Adieu Les Cons (Bye Bye Morons) – 2020 Comedy
DESCRIPTION:When 43-year-old hairdresser Suze Trappet finds out that she’s seriously ill\, she decides to go looking for a child she was forced to abandon when she was only 15. On her madcap\, bureaucratic quest she crosses paths with JB\, a 50-year-old man in the middle of a burnout\, and Mr. Blin\, a blind archivist prone to overenthusiasm. The unlikely trio set off on a hilarious and poignant\, helter-skelter journey across the city in search of Suze’s long-lost child. \nIn French with English subtitles.
URL:https://afdegrossepointe.org/event/cine-club-adieu-les-con/
LOCATION:Grosse Pointe Public Library-Woods Branch\, 20680 Mack Ave.\, Grosse Pointe Woods\, MI\, 48236\, United States
CATEGORIES:Ciné Club,Main
ATTACH;FMTTYPE=image/jpeg:https://afdegrossepointe.org/wp-content/uploads/2023/10/adieu-les-cons-affiche-de-film-120x160-cm-2020-virginie-efira-dupontel.jpg
END:VEVENT
END:VCALENDAR