BEGIN:VCALENDAR
VERSION:2.0
PRODID:-//Alliance Française de Grosse Pointe - ECPv6.15.20//NONSGML v1.0//EN
CALSCALE:GREGORIAN
METHOD:PUBLISH
X-WR-CALNAME:Alliance Française de Grosse Pointe
X-ORIGINAL-URL:https://afdegrossepointe.org
X-WR-CALDESC:Events for Alliance Française de Grosse Pointe
REFRESH-INTERVAL;VALUE=DURATION:PT1H
X-Robots-Tag:noindex
X-PUBLISHED-TTL:PT1H
BEGIN:VTIMEZONE
TZID:America/Detroit
BEGIN:DAYLIGHT
TZOFFSETFROM:-0500
TZOFFSETTO:-0400
TZNAME:EDT
DTSTART:20230312T070000
END:DAYLIGHT
BEGIN:STANDARD
TZOFFSETFROM:-0400
TZOFFSETTO:-0500
TZNAME:EST
DTSTART:20231105T060000
END:STANDARD
BEGIN:DAYLIGHT
TZOFFSETFROM:-0500
TZOFFSETTO:-0400
TZNAME:EDT
DTSTART:20240310T070000
END:DAYLIGHT
BEGIN:STANDARD
TZOFFSETFROM:-0400
TZOFFSETTO:-0500
TZNAME:EST
DTSTART:20241103T060000
END:STANDARD
BEGIN:DAYLIGHT
TZOFFSETFROM:-0500
TZOFFSETTO:-0400
TZNAME:EDT
DTSTART:20250309T070000
END:DAYLIGHT
BEGIN:STANDARD
TZOFFSETFROM:-0400
TZOFFSETTO:-0500
TZNAME:EST
DTSTART:20251102T060000
END:STANDARD
END:VTIMEZONE
BEGIN:VEVENT
DTSTART;VALUE=DATE:20240320
DTEND;VALUE=DATE:20240321
DTSTAMP:20260422T090545
CREATED:20240301T174556Z
LAST-MODIFIED:20240301T175312Z
UID:5786-1710892800-1710979199@afdegrossepointe.org
SUMMARY:Celebration of la Journée de la Francophonie- One day screening of the film RESPIRE
DESCRIPTION:Federation of Alliances Françaises USA and the Délégation du Québec à Boston\nEn français with English subtitles \nInvitation is limited to 200 copies. Make sure to register early. \nThe AF Federation USA events are all conducted online via Zoom. Events are free to all AFGP members. You will need to subscribe ahead for each event individually in order to get a link. \nFor more information and to register: https://afusa.org/
URL:https://afdegrossepointe.org/event/celebration-of-la-journee-de-la-francophonie-one-day-screening-of-the-film-respire/
CATEGORIES:AF Events,Main
END:VEVENT
END:VCALENDAR