BEGIN:VCALENDAR
VERSION:2.0
PRODID:-//Alliance Française de Grosse Pointe - ECPv6.15.20//NONSGML v1.0//EN
CALSCALE:GREGORIAN
METHOD:PUBLISH
X-WR-CALNAME:Alliance Française de Grosse Pointe
X-ORIGINAL-URL:https://afdegrossepointe.org
X-WR-CALDESC:Events for Alliance Française de Grosse Pointe
REFRESH-INTERVAL;VALUE=DURATION:PT1H
X-Robots-Tag:noindex
X-PUBLISHED-TTL:PT1H
BEGIN:VTIMEZONE
TZID:America/Detroit
BEGIN:DAYLIGHT
TZOFFSETFROM:-0500
TZOFFSETTO:-0400
TZNAME:EDT
DTSTART:20220313T070000
END:DAYLIGHT
BEGIN:STANDARD
TZOFFSETFROM:-0400
TZOFFSETTO:-0500
TZNAME:EST
DTSTART:20221106T060000
END:STANDARD
BEGIN:DAYLIGHT
TZOFFSETFROM:-0500
TZOFFSETTO:-0400
TZNAME:EDT
DTSTART:20230312T070000
END:DAYLIGHT
BEGIN:STANDARD
TZOFFSETFROM:-0400
TZOFFSETTO:-0500
TZNAME:EST
DTSTART:20231105T060000
END:STANDARD
BEGIN:DAYLIGHT
TZOFFSETFROM:-0500
TZOFFSETTO:-0400
TZNAME:EDT
DTSTART:20240310T070000
END:DAYLIGHT
BEGIN:STANDARD
TZOFFSETFROM:-0400
TZOFFSETTO:-0500
TZNAME:EST
DTSTART:20241103T060000
END:STANDARD
END:VTIMEZONE
BEGIN:VEVENT
DTSTART;TZID=America/Detroit:20230314T180000
DTEND;TZID=America/Detroit:20230314T200000
DTSTAMP:20260424T193840
CREATED:20230302T150223Z
LAST-MODIFIED:20230302T150450Z
UID:4466-1678816800-1678824000@afdegrossepointe.org
SUMMARY:AFGP French Meetup
DESCRIPTION:Join us for dinner\, drinks\, and good conversation “en français”!  \nWe are meeting again at Antonio’s in the Park. We have been guaranteed a quiet\, private area to enjoy a meal and converse in French. \nPlease\, make sure to sign up on the special MeetUp link and RSVP for February 9th\, so we know how many are attending.  \nClick Here to Register
URL:https://afdegrossepointe.org/event/afgp-french-meetup/
LOCATION:Antonio’s in the Park\, 15117 Kercheval Ave.\, Grosse Pointe Park\, MI\, 48230\, United States
CATEGORIES:Main
END:VEVENT
END:VCALENDAR