BEGIN:VCALENDAR
VERSION:2.0
PRODID:-//Alliance Française de Grosse Pointe - ECPv6.15.20//NONSGML v1.0//EN
CALSCALE:GREGORIAN
METHOD:PUBLISH
X-WR-CALNAME:Alliance Française de Grosse Pointe
X-ORIGINAL-URL:https://afdegrossepointe.org
X-WR-CALDESC:Events for Alliance Française de Grosse Pointe
REFRESH-INTERVAL;VALUE=DURATION:PT1H
X-Robots-Tag:noindex
X-PUBLISHED-TTL:PT1H
BEGIN:VTIMEZONE
TZID:America/Detroit
BEGIN:DAYLIGHT
TZOFFSETFROM:-0500
TZOFFSETTO:-0400
TZNAME:EDT
DTSTART:20220313T070000
END:DAYLIGHT
BEGIN:STANDARD
TZOFFSETFROM:-0400
TZOFFSETTO:-0500
TZNAME:EST
DTSTART:20221106T060000
END:STANDARD
BEGIN:DAYLIGHT
TZOFFSETFROM:-0500
TZOFFSETTO:-0400
TZNAME:EDT
DTSTART:20230312T070000
END:DAYLIGHT
BEGIN:STANDARD
TZOFFSETFROM:-0400
TZOFFSETTO:-0500
TZNAME:EST
DTSTART:20231105T060000
END:STANDARD
BEGIN:DAYLIGHT
TZOFFSETFROM:-0500
TZOFFSETTO:-0400
TZNAME:EDT
DTSTART:20240310T070000
END:DAYLIGHT
BEGIN:STANDARD
TZOFFSETFROM:-0400
TZOFFSETTO:-0500
TZNAME:EST
DTSTART:20241103T060000
END:STANDARD
END:VTIMEZONE
BEGIN:VEVENT
DTSTART;TZID=America/Detroit:20230411T063000
DTEND;TZID=America/Detroit:20230411T203000
DTSTAMP:20260422T160353
CREATED:20230329T194141Z
LAST-MODIFIED:20230329T194342Z
UID:4559-1681194600-1681245000@afdegrossepointe.org
SUMMARY:AFGP French Meetup
DESCRIPTION:Join us for dinner\, drinks\, and good conversation “en français”!  \nWe are meeting again at Antonio’s in the Park. We have been guaranteed a quiet\, private area to enjoy a meal and converse in French. \nPlease\, make sure to sign up on the special MeetUp link and RSVP\, so we know how many are attending.  \nClick for more information and to register.
URL:https://afdegrossepointe.org/event/afgp-french-meetup-2/
LOCATION:Antonio’s in the Park\, 15117 Kercheval Ave.\, Grosse Pointe Park\, MI\, 48230\, United States
CATEGORIES:Main
END:VEVENT
END:VCALENDAR