BEGIN:VCALENDAR
VERSION:2.0
PRODID:-//Alliance Française de Grosse Pointe - ECPv6.15.20//NONSGML v1.0//EN
CALSCALE:GREGORIAN
METHOD:PUBLISH
X-WR-CALNAME:Alliance Française de Grosse Pointe
X-ORIGINAL-URL:https://afdegrossepointe.org
X-WR-CALDESC:Events for Alliance Française de Grosse Pointe
REFRESH-INTERVAL;VALUE=DURATION:PT1H
X-Robots-Tag:noindex
X-PUBLISHED-TTL:PT1H
BEGIN:VTIMEZONE
TZID:America/Detroit
BEGIN:DAYLIGHT
TZOFFSETFROM:-0500
TZOFFSETTO:-0400
TZNAME:EDT
DTSTART:20230312T070000
END:DAYLIGHT
BEGIN:STANDARD
TZOFFSETFROM:-0400
TZOFFSETTO:-0500
TZNAME:EST
DTSTART:20231105T060000
END:STANDARD
BEGIN:DAYLIGHT
TZOFFSETFROM:-0500
TZOFFSETTO:-0400
TZNAME:EDT
DTSTART:20240310T070000
END:DAYLIGHT
BEGIN:STANDARD
TZOFFSETFROM:-0400
TZOFFSETTO:-0500
TZNAME:EST
DTSTART:20241103T060000
END:STANDARD
BEGIN:DAYLIGHT
TZOFFSETFROM:-0500
TZOFFSETTO:-0400
TZNAME:EDT
DTSTART:20250309T070000
END:DAYLIGHT
BEGIN:STANDARD
TZOFFSETFROM:-0400
TZOFFSETTO:-0500
TZNAME:EST
DTSTART:20251102T060000
END:STANDARD
END:VTIMEZONE
BEGIN:VEVENT
DTSTART;TZID=America/Detroit:20240910T180000
DTEND;TZID=America/Detroit:20240910T180000
DTSTAMP:20260421T164117
CREATED:20240405T124228Z
LAST-MODIFIED:20240905T123036Z
UID:5813-1725991200-1725991200@afdegrossepointe.org
SUMMARY:Groupe de Conversation Septembre
DESCRIPTION:Join us at our monthly French Conversation Group. This event is free of charge and we welcome French speakers of every level. \nFor information\, email afgpeducation@gmail.com. \n\nPlease RSVP at Meetup.
URL:https://afdegrossepointe.org/event/afgp-french-conversation-group-2/
LOCATION:Village Grille\, 16930 Kercheval Ave.\, Grosse Pointe Park\, MI\, United States
CATEGORIES:Front Page,Groupe de Conversation,Main
ATTACH;FMTTYPE=image/jpeg:https://afdegrossepointe.org/wp-content/uploads/2023/12/meetup-450.jpg
END:VEVENT
END:VCALENDAR